BEGIN:VCALENDAR
VERSION:2.0
PRODID:-//Heal the Bay - ECPv6.15.20//NONSGML v1.0//EN
CALSCALE:GREGORIAN
METHOD:PUBLISH
X-ORIGINAL-URL:https://healthebay.org
X-WR-CALDESC:Events for Heal the Bay
REFRESH-INTERVAL;VALUE=DURATION:PT1H
X-Robots-Tag:noindex
X-PUBLISHED-TTL:PT1H
BEGIN:VTIMEZONE
TZID:America/Los_Angeles
BEGIN:DAYLIGHT
TZOFFSETFROM:-0800
TZOFFSETTO:-0700
TZNAME:PDT
DTSTART:20240310T100000
END:DAYLIGHT
BEGIN:STANDARD
TZOFFSETFROM:-0700
TZOFFSETTO:-0800
TZNAME:PST
DTSTART:20241103T090000
END:STANDARD
BEGIN:DAYLIGHT
TZOFFSETFROM:-0800
TZOFFSETTO:-0700
TZNAME:PDT
DTSTART:20250309T100000
END:DAYLIGHT
BEGIN:STANDARD
TZOFFSETFROM:-0700
TZOFFSETTO:-0800
TZNAME:PST
DTSTART:20251102T090000
END:STANDARD
BEGIN:DAYLIGHT
TZOFFSETFROM:-0800
TZOFFSETTO:-0700
TZNAME:PDT
DTSTART:20260308T100000
END:DAYLIGHT
BEGIN:STANDARD
TZOFFSETFROM:-0700
TZOFFSETTO:-0800
TZNAME:PST
DTSTART:20261101T090000
END:STANDARD
END:VTIMEZONE
BEGIN:VEVENT
DTSTART;TZID=America/Los_Angeles:20251108T080000
DTEND;TZID=America/Los_Angeles:20251116T170000
DTSTAMP:20260419T081108
CREATED:20251106T173238Z
LAST-MODIFIED:20251106T214115Z
UID:10003249-1762588800-1763312400@healthebay.org
SUMMARY:Heal the Bay 2025 Food Drive
DESCRIPTION:The current pause on SNAP benefits is impacting many members of our community. Heal the Bay’s Community Programs team is hosting a food drive to help Angelenos facing food insecurity. \n📅 November 8–16We’ll be collecting donations during our upcoming public events\, including: \n\nDay of Service at Kuruvungna Springs – November 8\nNothin’ But Sand Beach Cleanup – November 15\nAt Heal the Bay Aquarium – Saturdays & Sundays from 12 pm – 4 pm\n\nAll collected items will be delivered to the Westside Food Bank on Monday\, November 17.Please note that the food bank accepts only non-expired items from its approved list:👉 Westside Food Bank Accepted Items \n \nPrefer to give a monetary donation?💙 Donate directly to the Westside Food Bank here.
URL:https://healthebay.org/event/heal-the-bay-2025-food-drive/
LOCATION:CA
CATEGORIES:Aquarium,Cleanups,Special Events
END:VEVENT
BEGIN:VEVENT
DTSTART;TZID=America/Los_Angeles:20251129T120000
DTEND;TZID=America/Los_Angeles:20251129T160000
DTSTAMP:20260419T081108
CREATED:20251121T010905Z
LAST-MODIFIED:20251121T010905Z
UID:10003252-1764417600-1764432000@healthebay.org
SUMMARY:Meet Our Endangered Animal Ambassadors
DESCRIPTION:After Thanksgiving\, grab your family and head to the Heal the Bay Aquarium under the Santa Monica Pier to get up close and personal with our animal ambassadors. You’ll get a chance to marvel at a sunflower sea star\, giant spotted sea bass\, jellyfish\, seahorses\, sharks\, and more! \n⏰Saturday\, Nov. 29\, 12 – 4 PM\n📍Heal the Bay Aquarium\, Santa Monica \nPlan Your Visit \nDiscover the Campaign \nAdmission Information\nAdults and Teens 13+: $12.00\nKids (4-12): $5.00\nKids 3 and under: FREE with an Adult Ticket Purchase (An adult MUST accompany Children) \nStudents: $10.00\nOlder Adults (65+): $10.00\nEBT (cardholder): $6.00\nMilitary (active-duty military personnel\, retired military personnel\, and veterans): Free \nGroup rate: For groups of 5 or more adults ($10.00/each person); for groups of 10 or more children ($3.00/each child) \nAquarium Membership\nGet your Heal the Bay Member”Ship” and enjoy 12 months of unlimited free visits\, exclusive member benefits\, and valuable discounts. Get Become a Member>>
URL:https://healthebay.org/event/meet-our-endangered-animals-2/
LOCATION:Heal the Bay Aquarium\, 1600 Ocean Front Walk\, Santa Monica\, CA\, 90401\, United States
CATEGORIES:Aquarium
ATTACH;FMTTYPE=image/jpeg:https://healthebay.org/wp-content/uploads/2025/11/Heal-the-Bay-Aquarium-photo-1-e1763682253626.jpg
GEO:34.010005;-118.4959934
X-APPLE-STRUCTURED-LOCATION;VALUE=URI;X-ADDRESS=Heal the Bay Aquarium 1600 Ocean Front Walk Santa Monica CA 90401 United States;X-APPLE-RADIUS=500;X-TITLE=1600 Ocean Front Walk:geo:-118.4959934,34.010005
END:VEVENT
END:VCALENDAR