BEGIN:VCALENDAR
VERSION:2.0
PRODID:-//Heal the Bay - ECPv6.15.20//NONSGML v1.0//EN
CALSCALE:GREGORIAN
METHOD:PUBLISH
X-WR-CALNAME:Heal the Bay
X-ORIGINAL-URL:https://healthebay.org
X-WR-CALDESC:Events for Heal the Bay
REFRESH-INTERVAL;VALUE=DURATION:PT1H
X-Robots-Tag:noindex
X-PUBLISHED-TTL:PT1H
BEGIN:VTIMEZONE
TZID:America/Los_Angeles
BEGIN:DAYLIGHT
TZOFFSETFROM:-0800
TZOFFSETTO:-0700
TZNAME:PDT
DTSTART:20250309T100000
END:DAYLIGHT
BEGIN:STANDARD
TZOFFSETFROM:-0700
TZOFFSETTO:-0800
TZNAME:PST
DTSTART:20251102T090000
END:STANDARD
BEGIN:DAYLIGHT
TZOFFSETFROM:-0800
TZOFFSETTO:-0700
TZNAME:PDT
DTSTART:20260308T100000
END:DAYLIGHT
BEGIN:STANDARD
TZOFFSETFROM:-0700
TZOFFSETTO:-0800
TZNAME:PST
DTSTART:20261101T090000
END:STANDARD
BEGIN:DAYLIGHT
TZOFFSETFROM:-0800
TZOFFSETTO:-0700
TZNAME:PDT
DTSTART:20270314T100000
END:DAYLIGHT
BEGIN:STANDARD
TZOFFSETFROM:-0700
TZOFFSETTO:-0800
TZNAME:PST
DTSTART:20271107T090000
END:STANDARD
END:VTIMEZONE
BEGIN:VEVENT
DTSTART;TZID=America/Los_Angeles:20260616T170000
DTEND;TZID=America/Los_Angeles:20260616T193000
DTSTAMP:20260419T062840
CREATED:20260107T013926Z
LAST-MODIFIED:20260417T171833Z
UID:10003260-1781629200-1781638200@healthebay.org
SUMMARY:MPA Watch Community Science Training
DESCRIPTION:Do you like science AND long walks on the beach? Then join Heal the Bay’s community science program\, MPA Watch! Volunteers will be trained on how to collect data while walking along the most beautiful beaches of Rancho Palos Verdes. \nMonitoring done by MPA Watchers helps encourage enforcement and regulation around marine protected areas (MPAs)\, also known as “underwater Yosemites.” \nBecome a volunteer by attending the two-part training program\, which includes one virtual classroom training and one field training session. All training materials will be provided. \nPart 1: Virtual Training Tuesday\, June 16\, 5:00 PM-7:30 PM \nPlease complete the following prerequisites: \n\nHeal the Bay MPA Watch Classroom Training Video \nHeal the Bay MPA Basic Info Quiz\nYou must have previously attended a Heal the Bay Volunteer Orientation\n\nPart 2: Field Training: Saturday\, June 20\, from 9 AM – 11 AM \n\nVirtual training must be completed\nField training location will be disclosed at virtual training\n\nField training location will be disclosed at virtual training \nREGISTER\n——————————————————————————- \nFAQs\nAre there any prerequisites to become an MPA Watch Volunteer? \nHeal the Bay’s New Volunteer Orientation must be attended and completed either before or after attending the MPA Watch training. The orientation occurs bimonthly and can be fulfilled by watching a recording of the most recent orientation. You must also watch the prerequisite videos and quizzes\, as well as submit the necessary onboarding paperwork. \nAre there any minimum age requirements to enter the event? \nThe minimum age is age 14. Volunteers under 17 must be accompanied by an adult to the training. \nPlease contact Zoë Collins and the MPA Watch Team at mpawatch@healthebay.org with any questions.
URL:https://healthebay.org/event/mpa-watch-community-science-training-7-2/
CATEGORIES:Volunteer
ATTACH;FMTTYPE=image/jpeg:https://healthebay.org/wp-content/uploads/2023/12/Heal-the-Bay-1-1-e1702321873977.jpg
END:VEVENT
BEGIN:VEVENT
DTSTART;TZID=America/Los_Angeles:20260620T090000
DTEND;TZID=America/Los_Angeles:20260620T110000
DTSTAMP:20260419T062840
CREATED:20260107T014212Z
LAST-MODIFIED:20260417T171323Z
UID:10003261-1781946000-1781953200@healthebay.org
SUMMARY:MPA Watch Community Science Training
DESCRIPTION:Do you like science AND long walks on the beach? Then join Heal the Bay’s community science program\, MPA Watch! Volunteers will be trained on how to collect data while walking along the most beautiful beaches of Rancho Palos Verdes. \nMonitoring done by MPA Watchers helps encourage enforcement and regulation around marine protected areas (MPAs)\, also known as “underwater Yosemites.” \nBecome a volunteer by attending the two-part training program\, which includes one virtual classroom training and one field training session. All training materials will be provided. \nPart 1: Virtual Training Tuesday\, June 16\, 5:00 PM-7:30 PM \nPlease complete the following prerequisites: \n\nHeal the Bay MPA Watch Classroom Training Video \nHeal the Bay MPA Basic Info Quiz\nYou must have previously attended a Heal the Bay Volunteer Orientation\n\nPart 2: Field Training: Saturday\, June 20\, from 9 AM – 11 AM \n\nVirtual training must be completed\nField training location will be disclosed at virtual training\n\nField training location will be disclosed at virtual training \nREGISTER\n——————————————————————————- \nFAQs\nAre there any prerequisites to become an MPA Watch Volunteer? \nHeal the Bay’s New Volunteer Orientation must be attended and completed either before or after attending the MPA Watch training. The orientation occurs bimonthly and can be fulfilled by watching a recording of the most recent orientation. You must also watch the prerequisite videos and quizzes\, as well as submit the necessary onboarding paperwork. \nAre there any minimum age requirements to enter the event? \nThe minimum age is age 14. Volunteers under 17 must be accompanied by an adult to the training. \nPlease contact Zoë Collins and the MPA Watch Team at mpawatch@healthebay.org with any questions.
URL:https://healthebay.org/event/mpa-watch-community-science-training-7-3/
CATEGORIES:Volunteer
ATTACH;FMTTYPE=image/jpeg:https://healthebay.org/wp-content/uploads/2023/12/Heal-the-Bay-1-1-e1702321873977.jpg
END:VEVENT
END:VCALENDAR