BEGIN:VCALENDAR
VERSION:2.0
PRODID:-//Heal the Bay - ECPv6.15.20//NONSGML v1.0//EN
CALSCALE:GREGORIAN
METHOD:PUBLISH
X-ORIGINAL-URL:https://healthebay.org
X-WR-CALDESC:Events for Heal the Bay
REFRESH-INTERVAL;VALUE=DURATION:PT1H
X-Robots-Tag:noindex
X-PUBLISHED-TTL:PT1H
BEGIN:VTIMEZONE
TZID:America/Los_Angeles
BEGIN:DAYLIGHT
TZOFFSETFROM:-0800
TZOFFSETTO:-0700
TZNAME:PDT
DTSTART:20240310T100000
END:DAYLIGHT
BEGIN:STANDARD
TZOFFSETFROM:-0700
TZOFFSETTO:-0800
TZNAME:PST
DTSTART:20241103T090000
END:STANDARD
BEGIN:DAYLIGHT
TZOFFSETFROM:-0800
TZOFFSETTO:-0700
TZNAME:PDT
DTSTART:20250309T100000
END:DAYLIGHT
BEGIN:STANDARD
TZOFFSETFROM:-0700
TZOFFSETTO:-0800
TZNAME:PST
DTSTART:20251102T090000
END:STANDARD
BEGIN:DAYLIGHT
TZOFFSETFROM:-0800
TZOFFSETTO:-0700
TZNAME:PDT
DTSTART:20260308T100000
END:DAYLIGHT
BEGIN:STANDARD
TZOFFSETFROM:-0700
TZOFFSETTO:-0800
TZNAME:PST
DTSTART:20261101T090000
END:STANDARD
END:VTIMEZONE
BEGIN:VEVENT
DTSTART;VALUE=DATE:20250630
DTEND;VALUE=DATE:20250704
DTSTAMP:20260420T164454
CREATED:20250324T205209Z
LAST-MODIFIED:20250324T222412Z
UID:10003161-1751241600-1751587199@healthebay.org
SUMMARY:Summer Science Camp at Heal the Bay Aquarium
DESCRIPTION:Summer Science Camp at Heal the Bay Aquarium\nPart 1 Dates: \n\nWeek 1: June 23 – June 27\nWeek 2: June 30 – July 3\n\nTime: 9 AM – 2 PM\, Daily\nAfter-camp care will be offered from 2 PM-3 PM for $20 per day. \nGrades: K-2 \nThis summer\, dive into discovery at Heal the Bay’s Summer Science Camp\, where young ocean lovers will explore the ever-changing natural world! This season\, we’re highlighting the scientists in all of our campers by focusing on the process of scientific observation to inspire environmental stewardship. Campers will investigate the science behind seasonal changes and their impact on marine and terrestrial life and uncover the mysteries of aquatic ecosystems. Through guided experimentation\, hands-on crafts\, and interactive exhibits\, we’ll boost ocean literacy and connect past conservation efforts to present-day action. \nSpace is limited-  reserve your camper’s spot today! \nActivities: (included but not limited to)  \n\nClose-up animal feedings\nFascinating beach explorations\nHands-on experiments\nEnvironmental action opportunities\nExciting crafts\n& Much more!\n\nActivities are subject to timing and weather conditions  \nSpring Science Camp Cost \nOur camp is designed for students grades K-5 as of April 2025 (or aged 5-11). Camp kits and T-shirts will be handed out to campers enrolled for several days and/or a full camp week on your camper’s final day of camp. \nPrice:  \nFull Week: $400   \nDaily: $85 per day  \n**Daily sessions are available à la carte for $85 per day or the full week for $400.   \nREGISTER FOR CAMP \nFrequently Asked Questions
URL:https://healthebay.org/event/summer-science-camp-at-heal-the-bay-aquarium-2/
LOCATION:Heal the Bay Aquarium\, 1600 Ocean Front Walk\, Santa Monica\, CA\, 90401\, United States
CATEGORIES:Aquarium
ATTACH;FMTTYPE=image/jpeg:https://healthebay.org/wp-content/uploads/2025/03/Summer-Camp-Part-1.jpg
GEO:34.010005;-118.4959934
X-APPLE-STRUCTURED-LOCATION;VALUE=URI;X-ADDRESS=Heal the Bay Aquarium 1600 Ocean Front Walk Santa Monica CA 90401 United States;X-APPLE-RADIUS=500;X-TITLE=1600 Ocean Front Walk:geo:-118.4959934,34.010005
END:VEVENT
BEGIN:VEVENT
DTSTART;VALUE=DATE:20250707
DTEND;VALUE=DATE:20250712
DTSTAMP:20260420T164454
CREATED:20250324T220608Z
LAST-MODIFIED:20250430T172436Z
UID:10003163-1751846400-1752278399@healthebay.org
SUMMARY:Summer Science Camp at Heal the Bay Aquarium
DESCRIPTION:Summer Science Camp at Heal the Bay Aquarium\nPart 2 Dates: \n\nWeek 3: July 7 – July 11\nWeek 4: July 14 – July 18\n\nTime: 9 AM – 2 PM\, Daily\nAfter-camp care will be offered from 2 PM-3 PM for $20 per day. \nGrades: 3-6 \nWhat if we could climb walls like amphibians\, swim like sharks\, or soar through the skies like seagulls? During weeks 3 & 4 of camp\, we will highlight the ways in which humans have attempted to mirror the majesty of the natural world. From Velcro to solar panels\, some of humanity’s greatest inventions were originally designed by nature. Together\, we will explore the ways humans have combined nature\, technology\, and innovation in a process called biomimicry! \nSpace is limited-  reserve your camper’s spot today! \nActivities: (included but not limited to)  \n\nClose-up animal observations\nHands-on experiments\nEnvironmental action opportunities\nExciting crafts\n& Much more!\n\nActivities are subject to timing and weather conditions  \nSpring Science Camp Cost \nOur camp is designed for students grades K-6 as of April 2025. Camp kits and T-shirts will be handed out to campers enrolled for several days and/or a full camp week on your camper’s final day of camp. \nPrice:  \nFull Week: $400   \nDaily: $85 per day  \n**Daily sessions are available à la carte for $85 per day or the full week for $400.   \nREGISTER FOR CAMP \nFrequently Asked Questions
URL:https://healthebay.org/event/summer-science-camp-at-heal-the-bay-aquarium-3/
LOCATION:Heal the Bay Aquarium\, 1600 Ocean Front Walk\, Santa Monica\, CA\, 90401\, United States
CATEGORIES:Aquarium
ATTACH;FMTTYPE=image/jpeg:https://healthebay.org/wp-content/uploads/2025/03/Summer-Camp-Part-2.jpg
GEO:34.010005;-118.4959934
X-APPLE-STRUCTURED-LOCATION;VALUE=URI;X-ADDRESS=Heal the Bay Aquarium 1600 Ocean Front Walk Santa Monica CA 90401 United States;X-APPLE-RADIUS=500;X-TITLE=1600 Ocean Front Walk:geo:-118.4959934,34.010005
END:VEVENT
BEGIN:VEVENT
DTSTART;TZID=America/Los_Angeles:20250707T183000
DTEND;TZID=America/Los_Angeles:20250707T203000
DTSTAMP:20260420T164454
CREATED:20250623T212659Z
LAST-MODIFIED:20250623T213706Z
UID:10003202-1751913000-1751920200@healthebay.org
SUMMARY:Coastal Clean Up Day Site Captain Training
DESCRIPTION:Coastal Cleanup Day is the world’s largest volunteer-driven environmental event\, mobilizing millions of people worldwide to protect our planet! In Los Angeles County\, Heal the Bay proudly leads this monumental effort\, organizing over 50 cleanup sites spanning the coasts\, rivers\, parks\, and dive and kayak sites. On Saturday\, September 20th\, 2025\, we’ll mark our 36th year of coordinating this impactful event\, welcoming more than 7\,000 volunteers to take action right here in LA County! \nAre you ready to make a difference? Become a Coastal Cleanup Day Site Captain and lead your own cleanup with the support of Heal the Bay. The Coastal Cleanup Day (CCD) Site Captain Training is designed to teach you everything you need to know about Coastal Cleanup Day\, to ensure you and your crew are well prepared to serve as leaders for your CCD site! \nAll Site Captains and Co-Captains must attend only ONE of the following sessions: \n\n\n\nJune 30th\, 6:30 PM- 8:30 PM (virtual)\nJuly 7th\, 6:30 PM- 8:30 PM (virtual)\nAugust 4th\, 6:30 PM- 8:30 PM (in Person- Captains Symposium!)\nAugust 15th\, 6:30 PM- 8:30 PM (virtual)\nSeptember 3rd: 6:30 PM- 8:30 PM (in person)\n\n\n\nREGISTER \nIn-person training will be held at the Heal the Bay HQ\, 1444 9th St.\, Santa Monica\, CA 9040. \nZoom links for online training will be emailed to you following your registration. \nPlease contact ccd@healthebay.org with any questions.
URL:https://healthebay.org/event/coastal-clean-up-day-site-captain-training/2025-07-07/
CATEGORIES:Coastal Cleanup Day,Virtual Event,Volunteer
ATTACH;FMTTYPE=image/jpeg:https://healthebay.org/wp-content/uploads/2025/06/52032736621_7a540e0bc7_o-e1750714060186.jpg
END:VEVENT
BEGIN:VEVENT
DTSTART;TZID=America/Los_Angeles:20250709T100000
DTEND;TZID=America/Los_Angeles:20250709T120000
DTSTAMP:20260420T164454
CREATED:20250626T193818Z
LAST-MODIFIED:20250626T221747Z
UID:10003206-1752055200-1752062400@healthebay.org
SUMMARY:Urban Watershed Grant Funding Workshop
DESCRIPTION:The Baldwin Hills and Urban Watersheds Conservancy (BH UWC) and the Central Santa Monica Bay & South Santa Monica Bay’s Safe Clean Water Program Watersheds invite you to join us for our next Urban Watershed Working Group Meeting. \nDate: Wednesday\, July 9th \nLocation: Hawthorne Memorial Center \nTime: 10:00 AM – 12:00 PM \nThis meeting will include an important discussion on Proposition 4 funding opportunities as well as Safe Clean Water Program funding\, so your participation and input are highly encouraged. \nRegister
URL:https://healthebay.org/event/urban-watershed-grant-funding-workshop/
CATEGORIES:Workshop
ATTACH;FMTTYPE=image/jpeg:https://healthebay.org/wp-content/uploads/2025/06/Screenshot-2025-06-26-123721.jpg
END:VEVENT
BEGIN:VEVENT
DTSTART;TZID=America/Los_Angeles:20250710T183000
DTEND;TZID=America/Los_Angeles:20250710T200000
DTSTAMP:20260420T164454
CREATED:20250304T214156Z
LAST-MODIFIED:20250304T214156Z
UID:10003155-1752172200-1752177600@healthebay.org
SUMMARY:New Heal the Bay Volunteer Orientation
DESCRIPTION:Protect what you love! Volunteer with Heal the Bay!\nTake the first step in protecting our oceans\, coastal waters\, and watersheds with Heal the Bay! Join us for our Volunteer Orientation and discover how you can get directly involved in Heal the Bay’s work. Learn about our volunteer programs\, meet like-minded environmental advocates\, and be the first to hear about upcoming events and opportunities. \n📅 Date: July 10\n🕒 Time: 6:30 PM – 8:00 PM\n📍 Location: Heal the Bay Aquarium – 1600 Ocean Front Walk\, Santa Monica\, CA 90401 \nREGISTER NOW \nWhy Volunteer with Heal the Bay?\n\nConnect with a passionate community tackling environmental issues in Los Angeles.\nDevelop valuable personal and professional skills.\nGain the confidence to advocate for a healthier planet.\nEnjoy exclusive volunteer events and opportunities.\n\nBy completing this Volunteer Orientation\, you’ll unlock opportunities to:\n\nMonitor marine protected areas with MPA Watch.\nLead beach cleanups as a Beach Captain.\nParticipate in Aquarium Volunteer Training.\nEducate others by joining the Speaker’s Bureau.\n\nPlease note: Orientation is not required for participation in Nothin’ But Sand monthly beach cleanups. \nParking Information:\nThe closest parking is at Lot 1 North and Lot 1 South in Santa Monica. \nWhat to Bring:\nNo materials are needed—just bring your enthusiasm and be ready to meet fellow ocean lovers! \n🌊 Ready to make a difference?\nRegister now to start your journey with Heal the Bay and help protect our local coastal waters.
URL:https://healthebay.org/event/new-heal-the-bay-volunteer-orientation-3/
LOCATION:Heal the Bay Aquarium\, 1600 Ocean Front Walk\, Santa Monica\, CA\, 90401\, United States
CATEGORIES:Volunteer
ATTACH;FMTTYPE=image/jpeg:https://healthebay.org/wp-content/uploads/2024/12/48425755471_04d700a53a_c.jpg
GEO:34.010005;-118.4959934
X-APPLE-STRUCTURED-LOCATION;VALUE=URI;X-ADDRESS=Heal the Bay Aquarium 1600 Ocean Front Walk Santa Monica CA 90401 United States;X-APPLE-RADIUS=500;X-TITLE=1600 Ocean Front Walk:geo:-118.4959934,34.010005
END:VEVENT
BEGIN:VEVENT
DTSTART;TZID=America/Los_Angeles:20250712T100000
DTEND;TZID=America/Los_Angeles:20250712T120000
DTSTAMP:20260420T164454
CREATED:20250529T223058Z
LAST-MODIFIED:20250529T223058Z
UID:10003195-1752314400-1752321600@healthebay.org
SUMMARY:Tour of Hyperion Water Reclamation Plant
DESCRIPTION:Join Heal the Bay and LA Sanitation & Environment for an exclusive behind-the-scenes tour of the Hyperion Water Reclamation Plant\, the largest wastewater treatment facility in the Western United States. This guided tour offers a unique look into the intricate processes that transform millions of gallons of wastewater each day into a valuable resource for Los Angeles. \nYou’ll walk through key parts of the facility and learn about the advanced processes used to protect public health and the environment. Following the tour\, we’ll head to the Environmental Learning Center (ELC)\, where interactive exhibits and presentations will deepen your understanding of water recycling\, sustainability\, and the future of water in Southern California. \nThis event is perfect for students\, educators\, community members\, and anyone interested in environmental science\, public infrastructure\, or the City of Los Angeles’s sustainability efforts. \nHighlights Include: \n\nA guided walkthrough of the treatment plant.\nInsight into wastewater management and water reuse.\nHands-on exhibits at the Education Learning Center.\nOpportunities for Q&A with environmental experts.\n\nWe have 2 tour dates available for you to choose from: \nWednesday\, June 18\, 2025\, from 1 pm to 3 pm\nSaturday\, July 12\, 202\,5 from 10 am to 12 pm \nReserve Your Spot
URL:https://healthebay.org/event/tour-of-hyperion-water-reclamation-plant/2025-07-12/
CATEGORIES:Special Events
ATTACH;FMTTYPE=image/jpeg:https://healthebay.org/wp-content/uploads/2025/05/Hyperion-Community-Tour-e1754609922593.jpg
END:VEVENT
BEGIN:VEVENT
DTSTART;VALUE=DATE:20250714
DTEND;VALUE=DATE:20250719
DTSTAMP:20260420T164454
CREATED:20250324T215831Z
LAST-MODIFIED:20250324T223033Z
UID:10003162-1752451200-1752883199@healthebay.org
SUMMARY:Summer Science Camp at Heal the Bay Aquarium
DESCRIPTION:Summer Science Camp at Heal the Bay Aquarium\nPart 2 Dates: \n\nWeek 3: July 7 – July 11\nWeek 4: July 14 – July 18\n\nTime: 9 AM – 2 PM\, Daily\nAfter-camp care will be offered from 2 PM-3 PM for $20 per day. \nGrades: 3-6 \nWhat if we could climb walls like amphibians\, swim like sharks\, or soar through the skies like seagulls? During weeks 3 & 4 of camp\, we will highlight the ways in which humans have attempted to mirror the majesty of the natural world. From Velcro to solar panels\, some of humanity’s greatest inventions were originally designed by nature. Together\, we will explore the ways humans have combined nature\, technology\, and innovation in a process called biomimicry! \nSpace is limited-  reserve your camper’s spot today! \nActivities: (included but not limited to)  \n\nClose-up animal observations\nHands-on experiments\nEnvironmental action opportunities\nExciting crafts\n& Much more!\n\nActivities are subject to timing and weather conditions  \nSpring Science Camp Cost \nOur camp is designed for students grades K-5 as of April 2025 (or aged 5-11). Camp kits and T-shirts will be handed out to campers enrolled for several days and/or a full camp week on your camper’s final day of camp. \nPrice:  \nFull Week: $400   \nDaily: $85 per day  \n**Daily sessions are available à la carte for $85 per day or the full week for $400.   \nREGISTER FOR CAMP \nFrequently Asked Questions
URL:https://healthebay.org/event/summer-science-camp-at-heal-the-bay-aquarium-4-2/
LOCATION:Heal the Bay Aquarium\, 1600 Ocean Front Walk\, Santa Monica\, CA\, 90401\, United States
CATEGORIES:Aquarium
ATTACH;FMTTYPE=image/jpeg:https://healthebay.org/wp-content/uploads/2025/03/Summer-Camp-Part-2.jpg
GEO:34.010005;-118.4959934
X-APPLE-STRUCTURED-LOCATION;VALUE=URI;X-ADDRESS=Heal the Bay Aquarium 1600 Ocean Front Walk Santa Monica CA 90401 United States;X-APPLE-RADIUS=500;X-TITLE=1600 Ocean Front Walk:geo:-118.4959934,34.010005
END:VEVENT
BEGIN:VEVENT
DTSTART;TZID=America/Los_Angeles:20250714T183000
DTEND;TZID=America/Los_Angeles:20250714T203000
DTSTAMP:20260420T164454
CREATED:20250527T202125Z
LAST-MODIFIED:20250527T202126Z
UID:10003187-1752517800-1752525000@healthebay.org
SUMMARY:Virtual Beach Captain Training
DESCRIPTION:Were you drawn to Beach Programs after Volunteer Orientation? Excited to expand your event coordination and science communication skills while networking with like-minded people? Then\, the next step is to become a Beach Captain! As a Beach Captain\, you’ll learn how to coordinate and manage logistics for our flagship beach cleanup events\, including Nothin’ But Sand\, Suits on the Sand\, and Adopt-a-Beach. These events are the face of Heal the Bay and serve as the first introduction for many to our mission. By completing this virtual training\, you’ll be qualified to represent Heal the Bay on the sand at our renowned cleanups\, helping lead volunteers and making a lasting impact on our coastline. \nWho Should Attend?\n\nIndividuals who want to be leaders on the sand at Heal the Bay events\nThose who desire to immerse themselves in Heal the Bay’s community\nAnyone who enjoys teaching others how to collect data and contribute to science\nPeople who love engaging with diverse groups and inspiring environmental action\n\n*You are eligible to attend this training if you have completed Volunteer Orientation. \nREGISTER NOW
URL:https://healthebay.org/event/beach-captain-training-2025-2/
CATEGORIES:Virtual Event
ATTACH;FMTTYPE=image/jpeg:https://healthebay.org/wp-content/uploads/2025/02/52032736621_7a540e0bc7_o-e1740769236882.jpg
END:VEVENT
BEGIN:VEVENT
DTSTART;TZID=America/Los_Angeles:20250719T100000
DTEND;TZID=America/Los_Angeles:20250719T120000
DTSTAMP:20260420T164454
CREATED:20250415T232202Z
LAST-MODIFIED:20250714T172751Z
UID:10003172-1752919200-1752926400@healthebay.org
SUMMARY:July Nothin But Sand Beach Clean Up
DESCRIPTION:#PlasticFreeJuly Nothin’ But Sand Beach Clean Up \nJuly 19\, 10 AM – 12 PM @ Redondo Beach – Redondo Beach\, near Veterans Park and the Pier (south side)\nHelp fight dangerous plastic pollution and keep Redondo Beach clean\, healthy\, and beautiful at Heal the Bay’s July Nothin’ But Sand Beach clean-up! Thank you Bubbies Ice Cream for sponsoring this clean-up. \n📍 Location: Redondo Beach\, near Veterans Park and the Pier (south side)\n📅 Date: Saturday\, July 19\n⏰ Time: 10 AM – 12 PM \nRegister \n\n\n\n\n\n\nWe provide the supplies\, all you need to do is register\, sign a waiver*\, and show up! Please note: Heal the Bay guarantees cleanup supplies for the first 300 people who are registered. \n\n\n\nEach volunteer registers individually. \n\nIndividuals under 18: reserve a ticket and submit a digital waiver \n\n\nCLEANING UP WITH A GROUP OF 15+? HERE’S WHAT YOU NEED TO KNOW! 🌿 \nAre you participating as part of a company\, school\, nonprofit\, or other organization? We’d love to have your group join us!  \nPlease follow these steps: \n1️ Register Your Group: Have your Group Coordinator email adopt@healthebay.org (ATTN: NBS Group Registration) with your group name\, a brief description\, coordinator contact information\, and expected group size. \n2️ Wait for Confirmation: Once registered\, your group will appear as an option on our RSVP page. \n3️ Have Your Members RSVP: Each individual in your group must register for an “Individual in Group” ticket and complete the waiver process. \n4️ Check-In Together: On event day\, please gather your group before heading to the Group Registration line to check in. If someone arrives late\, they can still check in\, attend the required safety talks\, and catch up with the group after picking up supplies. \nEVENT Sold out?  You can still attend! Just bring your own gloves and receptacle\, and our environmental experts will help you navigate the site and understand the impact of your work. \nWe will host another Nothin’ But Sand cleanup next month. Please stay tuned for more details. \n\nSign a Digital Waiver \n\nIndividuals over 18 and Families sign a virtual waiver online when reserving a ticket.\nGroups submit a digital waiver \nIndividuals Under 18 must have a legal guardian sign a digital waiver\n\nShow up \n\nHelp us make Nothin’ But Sand a zero-waste event by bringing your own buckets\, garden gloves\, and a reusable mask and water bottle\nBe prepared to be outside for 2-3 hours. Beach weather can be unpredictable\, so we recommend dressing in layers.  Water is available at all cleanups.\nIf you have any questions or concerns please email our Beach Programs Manager\, at tlocke@healthebay.org \n\nMore Information \n\nDigital Waiver \nBeach Cleanup Guide\nMore opportunities offered by Heal the Bay\n\nLearn more about Heal the Bay cleanups\n\n\n\nConnect With Us \n\nJoin the HTB Beach Collective Discord \nFollow Us on Instagram\, X\, Bluesky\, Facebook\, and LinkedIn\nSign Up for Our Newsletter\n\n\n\nWe would like to acknowledge that this cleanup will take place on the traditional lands of the Tongva and Chumash People\, and we pay respect to elders both past and present. 
URL:https://healthebay.org/event/july-nothin-but-sand-beach-clean-up-1/
LOCATION:Redondo Beach\, CA
CATEGORIES:Cleanups
ATTACH;FMTTYPE=image/jpeg:https://healthebay.org/wp-content/uploads/2025/04/9-e1749596719761.jpg
END:VEVENT
BEGIN:VEVENT
DTSTART;TZID=America/Los_Angeles:20250720T180000
DTEND;TZID=America/Los_Angeles:20250720T210000
DTSTAMP:20260420T164454
CREATED:20250703T200611Z
LAST-MODIFIED:20250703T202714Z
UID:10003207-1753034400-1753045200@healthebay.org
SUMMARY:"To Save Our Coast" FREE Film Screening
DESCRIPTION:Join Heal the Bay on Saturday\, July 20 at 6 PM at Patagonia Santa Monica for a free screening of “To Save Our Coast: Proposition 20 and the Creation of the California Coastal Commission.” Discover the powerful history behind the California Coastal Act and how it continues to protect public access to our beaches and coastline today. \nAfter the film\, hear from local community organizers and environmental leaders who are working to keep California’s coast open\, protected\, and accessible for all. \nSeats are limited! Reserve your spot today. \nTickets \n  \nAbout the Film\nThe 1970s are often referred to as the environmental decade\, and perhaps no action better exemplifies the aims and achievements of this period than California’s Proposition 20. Passed by voters in 1972\, Prop. 20 established the regulatory body that became known as the California Coastal Commission – an agency widely recognized as the international flagship of coastal regulation. This documentary tells the story of that grassroots campaign through the voices of those who waged it\, showing how a diverse group of underdogs took on the state’s most powerful corporations to save the California coast for the people.
URL:https://healthebay.org/event/to-save-our-coast-screening/
LOCATION:Patagonia – Santa Monica\, 1345 3rd St\, Santa Monica\, 90401\, United States
CATEGORIES:Special Events
ATTACH;FMTTYPE=image/jpeg:https://healthebay.org/wp-content/uploads/2025/07/Join-Heal-the-Bay-for-a-2-e1751574347953.jpg
END:VEVENT
END:VCALENDAR