BEGIN:VCALENDAR
VERSION:2.0
PRODID:-//Heal the Bay - ECPv6.15.20//NONSGML v1.0//EN
CALSCALE:GREGORIAN
METHOD:PUBLISH
X-WR-CALNAME:Heal the Bay
X-ORIGINAL-URL:https://healthebay.org
X-WR-CALDESC:Events for Heal the Bay
REFRESH-INTERVAL;VALUE=DURATION:PT1H
X-Robots-Tag:noindex
X-PUBLISHED-TTL:PT1H
BEGIN:VTIMEZONE
TZID:America/Los_Angeles
BEGIN:DAYLIGHT
TZOFFSETFROM:-0800
TZOFFSETTO:-0700
TZNAME:PDT
DTSTART:20240310T100000
END:DAYLIGHT
BEGIN:STANDARD
TZOFFSETFROM:-0700
TZOFFSETTO:-0800
TZNAME:PST
DTSTART:20241103T090000
END:STANDARD
BEGIN:DAYLIGHT
TZOFFSETFROM:-0800
TZOFFSETTO:-0700
TZNAME:PDT
DTSTART:20250309T100000
END:DAYLIGHT
BEGIN:STANDARD
TZOFFSETFROM:-0700
TZOFFSETTO:-0800
TZNAME:PST
DTSTART:20251102T090000
END:STANDARD
BEGIN:DAYLIGHT
TZOFFSETFROM:-0800
TZOFFSETTO:-0700
TZNAME:PDT
DTSTART:20260308T100000
END:DAYLIGHT
BEGIN:STANDARD
TZOFFSETFROM:-0700
TZOFFSETTO:-0800
TZNAME:PST
DTSTART:20261101T090000
END:STANDARD
END:VTIMEZONE
BEGIN:VEVENT
DTSTART;TZID=America/Los_Angeles:20250804T183000
DTEND;TZID=America/Los_Angeles:20250804T203000
DTSTAMP:20260420T153533
CREATED:20250623T212659Z
LAST-MODIFIED:20250623T213706Z
UID:10003203-1754332200-1754339400@healthebay.org
SUMMARY:Coastal Clean Up Day Site Captain Training
DESCRIPTION:Coastal Cleanup Day is the world’s largest volunteer-driven environmental event\, mobilizing millions of people worldwide to protect our planet! In Los Angeles County\, Heal the Bay proudly leads this monumental effort\, organizing over 50 cleanup sites spanning the coasts\, rivers\, parks\, and dive and kayak sites. On Saturday\, September 20th\, 2025\, we’ll mark our 36th year of coordinating this impactful event\, welcoming more than 7\,000 volunteers to take action right here in LA County! \nAre you ready to make a difference? Become a Coastal Cleanup Day Site Captain and lead your own cleanup with the support of Heal the Bay. The Coastal Cleanup Day (CCD) Site Captain Training is designed to teach you everything you need to know about Coastal Cleanup Day\, to ensure you and your crew are well prepared to serve as leaders for your CCD site! \nAll Site Captains and Co-Captains must attend only ONE of the following sessions: \n\n\n\nJune 30th\, 6:30 PM- 8:30 PM (virtual)\nJuly 7th\, 6:30 PM- 8:30 PM (virtual)\nAugust 4th\, 6:30 PM- 8:30 PM (in Person- Captains Symposium!)\nAugust 15th\, 6:30 PM- 8:30 PM (virtual)\nSeptember 3rd: 6:30 PM- 8:30 PM (in person)\n\n\n\nREGISTER \nIn-person training will be held at the Heal the Bay HQ\, 1444 9th St.\, Santa Monica\, CA 9040. \nZoom links for online training will be emailed to you following your registration. \nPlease contact ccd@healthebay.org with any questions.
URL:https://healthebay.org/event/coastal-clean-up-day-site-captain-training/2025-08-04/
CATEGORIES:Coastal Cleanup Day,Virtual Event,Volunteer
ATTACH;FMTTYPE=image/jpeg:https://healthebay.org/wp-content/uploads/2025/06/52032736621_7a540e0bc7_o-e1750714060186.jpg
END:VEVENT
BEGIN:VEVENT
DTSTART;TZID=America/Los_Angeles:20250806T173000
DTEND;TZID=America/Los_Angeles:20250806T190000
DTSTAMP:20260420T153533
CREATED:20250122T220736Z
LAST-MODIFIED:20250122T221154Z
UID:10003121-1754501400-1754506800@healthebay.org
SUMMARY:MPA Watch Community Science Training
DESCRIPTION:Do you like science AND long walks on the beach? Then join Heal the Bay’s community science program\, MPA Watch! Volunteers will be trained on how to collect data while walking along the most beautiful beaches of Malibu and Palos Verdes. \nMonitoring done by MPA Watchers helps encourage enforcement and regulation around marine protected areas (MPAs)\, also known as “underwater Yosemites.” \nBecome a volunteer by attending the two-part training program\, which includes one virtual classroom training and one field training session. All training materials will be provided. \nPart 1: Classroom Training (Virtual)\nWednesday\, August 6\, 5:30 PM – 7:00 PM \n\nPlease watch the prerequisite videos and quizzes:\n\n Heal the Bay MPA Watch Classroom Training Video (Heal the Bay MPA Basic Info Quiz)\n MPA Watch Virtual Field Training Video (Field Training Video Quiz)\n\n\nThe Zoom link will be shared after you register\nYou must have previously attended a Heal the Bay Volunteer Orientation\n\nPart 2: Field Training (In-Person)\nSaturday\, August 9\, 2 PM – 4 PM \n\nClassroom training must be completed\nField training location will be disclosed at the virtual classroom training\n\nTo become an MPA Watch certified volunteer\, you must attend both sessions and Heal the Bay’s New Volunteer Orientation. You may attend a New Volunteer Orientation before or after our MPA Watch training. \nREGISTER \n  \nPLEASE NOTE:  \n**Must Register to participate. Walk-on attendance is not permitted\, and shifts are limited. \n**A previous Heal the Bay Volunteer Orientation MUST be attended and completed before you can attend the MPA event. The orientation occurs bimonthly. \nSIGN UP FOR YOUR SHIFT and help protect some of California’s most diverse coastal spaces from #Summit2Sea.
URL:https://healthebay.org/event/mpa-watch-community-science-training-5/
CATEGORIES:Volunteer
ATTACH;FMTTYPE=image/jpeg:https://healthebay.org/wp-content/uploads/2023/12/Heal-the-Bay-1-1-e1702321873977.jpg
END:VEVENT
BEGIN:VEVENT
DTSTART;TZID=America/Los_Angeles:20250809T140000
DTEND;TZID=America/Los_Angeles:20250809T160000
DTSTAMP:20260420T153533
CREATED:20250122T223725Z
LAST-MODIFIED:20250122T224026Z
UID:10003122-1754748000-1754755200@healthebay.org
SUMMARY:MPA Watch Community Science Training
DESCRIPTION:Do you like science AND long walks on the beach? Then join Heal the Bay’s community science program\, MPA Watch! Volunteers will be trained on how to collect data while walking along the most beautiful beaches of Malibu and Palos Verdes. \nMonitoring done by MPA Watchers helps encourage enforcement and regulation around marine protected areas (MPAs)\, also known as “underwater Yosemites.” \nBecome a volunteer by attending the two-part training program\, which includes one virtual classroom training and one field training session. All training materials will be provided. \nPart 1: Classroom Training (Virtual)\nWednesday\, August 6\, 5:30 PM – 7:00 PM \n\nPlease watch the prerequisite videos and quizzes:\n\n Heal the Bay MPA Watch Classroom Training Video (Heal the Bay MPA Basic Info Quiz)\n MPA Watch Virtual Field Training Video (Field Training Video Quiz)\n\n\nThe Zoom link will be shared after you register\nYou must have previously attended a Heal the Bay Volunteer Orientation\n\nPart 2: Field Training (In-Person)\nSaturday\, August 9\, 2 PM – 4 PM \n\nClassroom training must be completed\nField training location will be disclosed at the virtual classroom training\n\nTo become an MPA Watch certified volunteer\, you must attend both sessions and Heal the Bay’s New Volunteer Orientation. You may attend a New Volunteer Orientation before or after our MPA Watch training. \nREGISTER \n  \nPLEASE NOTE:  \n**Must Register to participate. Walk-on attendance is not permitted\, and shifts are limited. \n**A previous Heal the Bay Volunteer Orientation MUST be attended and completed before you can attend the MPA event. The orientation occurs bimonthly. \nSIGN UP FOR YOUR SHIFT and help protect some of California’s most diverse coastal spaces from #Summit2Sea.
URL:https://healthebay.org/event/mpa-watch-community-science-training-8/
CATEGORIES:Volunteer
ATTACH;FMTTYPE=image/jpeg:https://healthebay.org/wp-content/uploads/2023/12/Heal-the-Bay-1-1-e1702321873977.jpg
END:VEVENT
BEGIN:VEVENT
DTSTART;TZID=America/Los_Angeles:20250809T180000
DTEND;TZID=America/Los_Angeles:20250809T210000
DTSTAMP:20260420T153533
CREATED:20250715T195737Z
LAST-MODIFIED:20250715T195951Z
UID:10003209-1754762400-1754773200@healthebay.org
SUMMARY:40th B-Day Dance Party Takeover On the Santa Monica Promenade
DESCRIPTION:SATURDAY\, AUGUST 9\, 2025: 80s DANCE PARTY TAKEOVER! \n \n\n\n\n\n\n\n\n\n\nBreak out your neon\, lace up those high-tops\, and get ready to party like it’s 1985—because Heal the Bay is turning the big 4-0 and throwing the gnarliest celebration EVER! We’re talking two full days of totally awesome fun for the whole fam—right in the heart of the Santa Monica Promenade! \n🌟 SATURDAY\, AUGUST 9\, 2025\, 6 PM – 9 PM : 80s DANCE PARTY TAKEOVER! \nThis is your chance to dance like everyone’s watching!🎧 Live DJ spinning the raddest 80s hits🕺 Open-air dance floor to bust your best breakdance moves🎲 Retro games & totally tubular activities🎟️ Raffle prizes that’ll make your Walkman skip🍹 Drinks & snacks from your fave Promenade spots (available for purchase)💥 Costumes HIGHLY encouraged—think leg warmers\, big hair\, and shades at night! \n🎬 SUNDAY\, AUGUST 10\, 2025: FREE OUTDOOR SCREENING OF THE GOONIES!Hey you guuuuuuys! We’re wrapping the weekend with a family-favorite 80s classic under the stars!Bring your blanket\, grab some snacks\, and join us as we celebrate 40 years of ocean-saving adventure and four decades of Goonie glory. \n🌊 For 40 years\, Heal the Bay has been standing up for clean water\, healthy beaches\, and a thriving ocean. Now it’s time to celebrate—and you’re totally invited! \n📍 Where: Santa Monica Promenade🗓️ When: All Weekend Long (August 8- 10)💸 Cost: FREE (That’s right—no clams required!)👨‍👩‍👧‍👦 Fun for the whole fam\, from little Goonies to grown-up rock stars! \nLet’s make waves and party for the planet—80s style! \n \n📅 Save the Date & Stay in the Loop!Don’t miss a moment of the fun—sign up for our newsletter to get the scoop on totally awesome upcoming events\, beachy cleanups\, and rad ways to make a difference! \nSTAY IN THE KNOW
URL:https://healthebay.org/event/40th-birthday-party/
CATEGORIES:Special Events
ATTACH;FMTTYPE=image/jpeg:https://healthebay.org/wp-content/uploads/2025/07/Red-Newspaper-Box-Maps-Back-Page-Ad-e1752609062484.jpg
END:VEVENT
BEGIN:VEVENT
DTSTART;TZID=America/Los_Angeles:20250813T180000
DTEND;TZID=America/Los_Angeles:20250813T210000
DTSTAMP:20260420T153533
CREATED:20250723T225758Z
LAST-MODIFIED:20250812T191431Z
UID:10003220-1755108000-1755118800@healthebay.org
SUMMARY:Speakers Bureau Water Educators Training
DESCRIPTION:Speakers Bureau Water Educators Training:  August 2025\nThe ocean needs you more than ever! Turn your passion for the environment into meaningful action. Join our 4-day advocacy training and become a champion for protecting the coastal waters you love. \nPlease note that all training sessions are in-person. Virtual options are not currently available. Trainings are held at Heal the Bay HQ (1444 Ninth St\, Santa Monica)\, except 8/16\, at Will Rogers State Beach. \nSign Up \n \nSign Up \n \n\n\n\n\n\nCalling all water-lovers who also love public speaking! Join Heal the Bay in our upcoming Speakers Bureau August 2025 training\, where you will learn how to give talks on topics such as ocean pollution\, the DDT contamination issue in the South Bay\, environmental justice\, and the storm drain system to residents of Los Angeles County. \nIf you want to gain more experience in public speaking and deepen your knowledge of water issues in Los Angeles\, this training is for you. Speakers Bureau is one of Heal the Bay’s community outreach programs that takes volunteers throughout Los Angeles County to different schools and businesses to give engaging and educational lectures. We will proudly host our training in-person on two Thursdays and two Saturdays in August. This includes 3 in-person educational training sessions\, as well as a session on the sand at our monthly Nothin’ But Sand cleanup. \nTraining dates include: \n\nAugust 13th: 6:00pm-9:00pm\nAugust 16th: 9:30am-11:30am @ Nothin’ But Sand Beach Cleanup – Will Rogers State Beach\nAugust 20th: 6:00pm-9:00pm\nAugust 23rd: 12pm-3:00pm\n\nTrainees are expected to attend all 4 training sessions in order to become a full-fledged member of the Speakers Bureau team. However\, there are options for levels of participation in the program\, and volunteers can opt to focus solely on Beach Safety Talks. If there are time constraints\, please let us know! \nThe August 2025 Speakers Bureau training is completely free\, and snacks will be provided. Folks who complete the entire training will also receive certificates of completion\, a special bag of props\, and a Heal the Bay shirt to proudly represent at Speakers Bureau talks. \nPlease reach out to Kayleigh with any questions and concerns: kwade@healthebay.org \n\n\n\n\n\nTraining Dates & Details:\n\n\n\n\nsign up\n\nWednesday 8/13/2025 6:00 PM – 9:00 PM\n\nFirst day of training! Come learn about all things Storm Drain Pollution\, how to be stewards for our coasts\, and learn how to give Beach Safety Talks.\n\n\nsign up\n\nSaturday 8/16/2025 9:00 AM – 11:00 AM\n\nSecond day of training! Come practice your Beach Safety Talks at our monthly Nothin’ But Sand cleanup\, located at Will Rogers State Beach. Perfect opportunity to practice before Coastal Cleanup Day.\n\n\nsign up\n\nWednesday 8/20/2025 6:00 PM – 9:00 PM\n\nDay 3! Join us at our Santa Monica office for a hands-on activity on understanding climate change and understanding what our roles are as we tackle it.\n\n\nsign up\n\nSaturday 8/23/2025 12:00 PM – 3:00 PM\n\nLast day! Join us to learn more about environmental justice\, and for your graduation\n\n\n\nAll trainings are held in person at Heal the Bay HQ (1444 Ninth St\, Santa Monica)\, except 8/16\, at Will Rogers State Beach. \nSign Up
URL:https://healthebay.org/event/speakers-bureau-water-educators-training-3/
CATEGORIES:Volunteer
END:VEVENT
BEGIN:VEVENT
DTSTART;TZID=America/Los_Angeles:20250814T183000
DTEND;TZID=America/Los_Angeles:20250814T200000
DTSTAMP:20260420T153533
CREATED:20250304T214554Z
LAST-MODIFIED:20250807T232926Z
UID:10003156-1755196200-1755201600@healthebay.org
SUMMARY:New Heal the Bay Volunteer Orientation
DESCRIPTION:Protect what you love! Volunteer with Heal the Bay!\nTake the first step in protecting our oceans\, coastal waters\, and watersheds with Heal the Bay! Join us for our Volunteer Orientation and discover how you can get directly involved in Heal the Bay’s work. Learn about our volunteer programs\, meet like-minded environmental advocates\, and be the first to hear about upcoming events and opportunities. \n📅 Date: August 14\n🕒 Time: 6:30 PM – 8:00 PM\n📍 Location: Heal the Bay Aquarium – 1600 Ocean Front Walk\, Santa Monica\, CA 90401 \nREGISTER NOW \nWhy Volunteer with Heal the Bay?\n\nConnect with a passionate community tackling environmental issues in Los Angeles.\nDevelop valuable personal and professional skills.\nGain the confidence to advocate for a healthier planet.\nEnjoy exclusive volunteer events and opportunities.\n\nBy completing this Volunteer Orientation\, you’ll unlock opportunities to:\n\nMonitor marine protected areas with MPA Watch.\nLead beach cleanups as a Beach Captain.\nParticipate in Aquarium Volunteer Training.\nEducate others by joining the Speaker’s Bureau.\n\nPlease note: Orientation is not required for participation in Nothin’ But Sand monthly beach cleanups. \nParking Information:\nThe closest parking is at Lot 1 North and Lot 1 South in Santa Monica. \nWhat to Bring:\nNo materials are needed—just bring your enthusiasm and be ready to meet fellow ocean lovers! \n🌊 Ready to make a difference?\nRegister now to start your journey with Heal the Bay and help protect our local coastal waters.
URL:https://healthebay.org/event/new-heal-the-bay-volunteer-orientation-4/
LOCATION:Heal the Bay Aquarium\, 1600 Ocean Front Walk\, Santa Monica\, CA\, 90401\, United States
CATEGORIES:Volunteer
ATTACH;FMTTYPE=image/jpeg:https://healthebay.org/wp-content/uploads/2024/12/48425755471_04d700a53a_c.jpg
GEO:34.010005;-118.4959934
X-APPLE-STRUCTURED-LOCATION;VALUE=URI;X-ADDRESS=Heal the Bay Aquarium 1600 Ocean Front Walk Santa Monica CA 90401 United States;X-APPLE-RADIUS=500;X-TITLE=1600 Ocean Front Walk:geo:-118.4959934,34.010005
END:VEVENT
BEGIN:VEVENT
DTSTART;TZID=America/Los_Angeles:20250815T183000
DTEND;TZID=America/Los_Angeles:20250815T203000
DTSTAMP:20260420T153533
CREATED:20250623T212659Z
LAST-MODIFIED:20250623T213706Z
UID:10003204-1755282600-1755289800@healthebay.org
SUMMARY:Coastal Clean Up Day Site Captain Training
DESCRIPTION:Coastal Cleanup Day is the world’s largest volunteer-driven environmental event\, mobilizing millions of people worldwide to protect our planet! In Los Angeles County\, Heal the Bay proudly leads this monumental effort\, organizing over 50 cleanup sites spanning the coasts\, rivers\, parks\, and dive and kayak sites. On Saturday\, September 20th\, 2025\, we’ll mark our 36th year of coordinating this impactful event\, welcoming more than 7\,000 volunteers to take action right here in LA County! \nAre you ready to make a difference? Become a Coastal Cleanup Day Site Captain and lead your own cleanup with the support of Heal the Bay. The Coastal Cleanup Day (CCD) Site Captain Training is designed to teach you everything you need to know about Coastal Cleanup Day\, to ensure you and your crew are well prepared to serve as leaders for your CCD site! \nAll Site Captains and Co-Captains must attend only ONE of the following sessions: \n\n\n\nJune 30th\, 6:30 PM- 8:30 PM (virtual)\nJuly 7th\, 6:30 PM- 8:30 PM (virtual)\nAugust 4th\, 6:30 PM- 8:30 PM (in Person- Captains Symposium!)\nAugust 15th\, 6:30 PM- 8:30 PM (virtual)\nSeptember 3rd: 6:30 PM- 8:30 PM (in person)\n\n\n\nREGISTER \nIn-person training will be held at the Heal the Bay HQ\, 1444 9th St.\, Santa Monica\, CA 9040. \nZoom links for online training will be emailed to you following your registration. \nPlease contact ccd@healthebay.org with any questions.
URL:https://healthebay.org/event/coastal-clean-up-day-site-captain-training/2025-08-15/
CATEGORIES:Coastal Cleanup Day,Virtual Event,Volunteer
ATTACH;FMTTYPE=image/jpeg:https://healthebay.org/wp-content/uploads/2025/06/52032736621_7a540e0bc7_o-e1750714060186.jpg
END:VEVENT
BEGIN:VEVENT
DTSTART;TZID=America/Los_Angeles:20250816T100000
DTEND;TZID=America/Los_Angeles:20250816T120000
DTSTAMP:20260420T153533
CREATED:20250415T232658Z
LAST-MODIFIED:20250811T192344Z
UID:10003173-1755338400-1755345600@healthebay.org
SUMMARY:August Nothin But Sand Beach Clean Up
DESCRIPTION:August Nothin’ But Sand Beach Clean Up \nAugust 16\, 10 AM – 12 PM @ Will Rogers Beach\nJoin us for the first public marine debris cleanup and data collection event at Will Rogers since the wildfires. \nCommunity is essential to rebuilding with resilience\, and we at Heal the Bay are honored to bring people together for a day of healing\, education\, action\, and citizen science. \n📍 Location: Will Rogers Beach\, Tower 6\n📅 Date: Saturday\, August 16\n⏰ Time: 10 AM – 12 PM \nREGISTER \n\n\n\n\n\n\nWe provide the supplies\, all you need to do is register\, sign a waiver*\, and show up! Please note: Heal the Bay guarantees cleanup supplies for the first 300 people who are registered. \n\n\n\nEach volunteer registers individually. \n\nIndividuals under 18: reserve a ticket and submit a digital waiver \n\n\nCLEANING UP WITH A GROUP OF 15+? HERE’S WHAT YOU NEED TO KNOW! 🌿 \nAre you participating as part of a company\, school\, nonprofit\, or other organization? We’d love to have your group join us!  \nPlease follow these steps: \n1️ Register Your Group: Have your Group Coordinator email adopt@healthebay.org (ATTN: NBS Group Registration) with your group name\, a brief description\, coordinator contact information\, and expected group size. \n2️ Wait for Confirmation: Once registered\, your group will appear as an option on our RSVP page. \n3️ Have Your Members RSVP: Each individual in your group must register for an “Individual in Group” ticket and complete the waiver process. \n4️ Check-In Together: On event day\, please gather your group before heading to the Group Registration line to check in. If someone arrives late\, they can still check in\, attend the required safety talks\, and catch up with the group after picking up supplies. \nEVENT Sold out?  You can still attend! Just bring your own gloves and receptacle\, and our environmental experts will help you navigate the site and understand the impact of your work. \nWe will host another Nothin’ But Sand cleanup next month. Please stay tuned for more details. \n\nSign a Digital Waiver \n\nIndividuals over 18 and Families sign a virtual waiver online when reserving a ticket.\nGroups submit a digital waiver \nIndividuals Under 18 must have a legal guardian sign a digital waiver\n\nShow up \n\nHelp us make Nothin’ But Sand a zero-waste event by bringing your own buckets\, garden gloves\, and a reusable mask and water bottle\nBe prepared to be outside for 2-3 hours. Beach weather can be unpredictable\, so we recommend dressing in layers.  Water is available at all cleanups.\nIf you have any questions or concerns please email our Beach Programs Manager\, at tlocke@healthebay.org \n\nMore Information \n\nDigital Waiver \nBeach Cleanup Guide\nMore opportunities offered by Heal the Bay\n\nLearn more about Heal the Bay cleanups\n\n\nConnect With Us \n\nJoin the HTB Beach Collective Discord \nFollow Us on Instagram\, X\, Bluesky\, Facebook\, and LinkedIn\nSign Up for Our Newsletter\n\n\nWe would like to acknowledge that this cleanup will take place on the traditional lands of the Tongva and Chumash People\, and we pay respect to elders both past and present. 
URL:https://healthebay.org/event/august-nothin-but-sand-beach-clean-up/
LOCATION:Will Rogers State Beach\, 17000 Pacific Coast Hwy\, Tower 7\, Pacific Palisades\, CA\, 90272\, United States
CATEGORIES:Cleanups
ATTACH;FMTTYPE=image/jpeg:https://healthebay.org/wp-content/uploads/2025/04/NBS-Graphics-2024-2025-13-e1754939691144.jpg
GEO:34.0356331;-118.5155901
X-APPLE-STRUCTURED-LOCATION;VALUE=URI;X-ADDRESS=Will Rogers State Beach 17000 Pacific Coast Hwy Tower 7 Pacific Palisades CA 90272 United States;X-APPLE-RADIUS=500;X-TITLE=17000 Pacific Coast Hwy\, Tower 7:geo:-118.5155901,34.0356331
END:VEVENT
BEGIN:VEVENT
DTSTART;TZID=America/Los_Angeles:20250816T100000
DTEND;TZID=America/Los_Angeles:20250816T120000
DTSTAMP:20260420T153533
CREATED:20250707T223002Z
LAST-MODIFIED:20250707T223002Z
UID:10003208-1755338400-1755345600@healthebay.org
SUMMARY:Tour the Pure Water Southern California Innovation Center
DESCRIPTION:Discover How Clean Water Reaches Our Communities\nJoin our Safe Clean Water team for an exclusive tour of the Grace F. Napolitano Pure Water Southern California Innovation Center in Carson. Learn how this advanced facility produces 500\,000 gallons of purified water every day using innovative treatment technology. You’ll also get an inside look at what happens to the stormwater diverted to the plant from the South Santa Monica Bay. \n📅 Saturday\, August 16\n🕙 10 AM – 12 PM \nImportant Details: \n\n\n\nPlease wear closed-toe shoes with a low heel and long pants.\nBring a reusable water bottle.\nIf using rideshare\, instruct your driver to drop you off at the Learning Center and inform security upon arrival.\nSpace is limited\, register now!\n\n\n\nRegister
URL:https://healthebay.org/event/tour-the-pure-water-southern-california-innovation-center/
CATEGORIES:Tour
ATTACH;FMTTYPE=image/jpeg:https://healthebay.org/wp-content/uploads/2025/07/Napolitano-Innovation-Center-SCWP-Save-the-Date-Flyer.jpg
END:VEVENT
END:VCALENDAR