BEGIN:VCALENDAR
VERSION:2.0
PRODID:-//Heal the Bay - ECPv6.15.20//NONSGML v1.0//EN
CALSCALE:GREGORIAN
METHOD:PUBLISH
X-WR-CALNAME:Heal the Bay
X-ORIGINAL-URL:https://healthebay.org
X-WR-CALDESC:Events for Heal the Bay
REFRESH-INTERVAL;VALUE=DURATION:PT1H
X-Robots-Tag:noindex
X-PUBLISHED-TTL:PT1H
BEGIN:VTIMEZONE
TZID:America/Los_Angeles
BEGIN:DAYLIGHT
TZOFFSETFROM:-0800
TZOFFSETTO:-0700
TZNAME:PDT
DTSTART:20240310T100000
END:DAYLIGHT
BEGIN:STANDARD
TZOFFSETFROM:-0700
TZOFFSETTO:-0800
TZNAME:PST
DTSTART:20241103T090000
END:STANDARD
BEGIN:DAYLIGHT
TZOFFSETFROM:-0800
TZOFFSETTO:-0700
TZNAME:PDT
DTSTART:20250309T100000
END:DAYLIGHT
BEGIN:STANDARD
TZOFFSETFROM:-0700
TZOFFSETTO:-0800
TZNAME:PST
DTSTART:20251102T090000
END:STANDARD
BEGIN:DAYLIGHT
TZOFFSETFROM:-0800
TZOFFSETTO:-0700
TZNAME:PDT
DTSTART:20260308T100000
END:DAYLIGHT
BEGIN:STANDARD
TZOFFSETFROM:-0700
TZOFFSETTO:-0800
TZNAME:PST
DTSTART:20261101T090000
END:STANDARD
END:VTIMEZONE
BEGIN:VEVENT
DTSTART;TZID=America/Los_Angeles:20250427T100000
DTEND;TZID=America/Los_Angeles:20250427T120000
DTSTAMP:20260420T214227
CREATED:20250321T215415Z
LAST-MODIFIED:20250321T221540Z
UID:10003159-1745748000-1745755200@healthebay.org
SUMMARY:Heal the Bay BioBlitz 2025
DESCRIPTION:Heal the Bay BioBlitz: 2025 LA City Nature Challenge\nJoin Heal the Bay’s Safe\, Clean Water Program (SCWP) for the 2025 LA City Nature Challenge BioBlitz\, a global event that started as a friendly competition between Los Angeles and San Francisco and has since grown into a worldwide movement! \nA BioBlitz is a fun\, hands-on community science event where we’ll work together to document local wildlife. By snapping photos of wild plants and animals\, you’ll contribute valuable data to a global biodiversity database to help scientists better understand our urban environment. No experience needed! Just bring your curiosity and a smartphone. \nWe’re offering two BioBlitz locations this year\, and both are happening simultaneously\, so please choose only one. \n\n		\n		\n			\n				\n			\n			\n				\n			\n		\n\nWhen: Sunday\, April 27\, 10 AM – 12 PM\nWhere: Gardena Willows Wetland Preserve (1202 W 170th Street; Gardena\, CA 90247) OR Ballona Discovery Park (13110 Bluff Creek Dr; Los Angeles\, CA 90094)\nCost: FREE \nREGISTER
URL:https://healthebay.org/event/heal-the-bay-bioblitz-2025/
ATTACH;FMTTYPE=image/jpeg:https://healthebay.org/wp-content/uploads/2025/03/bioblitz-in-the-marsh.jpg
END:VEVENT
BEGIN:VEVENT
DTSTART;TZID=America/Los_Angeles:20250423T170000
DTEND;TZID=America/Los_Angeles:20250423T180000
DTSTAMP:20260420T214227
CREATED:20250418T021206Z
LAST-MODIFIED:20250516T211713Z
UID:10003175-1745427600-1745431200@healthebay.org
SUMMARY:CHANGING TIDES: FIRES\, BLOOMS &  A WARMING COAST (Panel)
DESCRIPTION:Missed the “Changing Tides” webinar?\nYou can still catch this powerful conversation and learn the facts about wildfires\, toxic algae blooms\, and how we can fight for a more climate-resilient future. Watch the recording to hear from actress/advocate Bonnie Wright\, Heal the Bay CEO Tracy Quinn\, and Marine Mammal Care Center’s Dave Bader.  \nWant to learn more about algae blooms\, domoic acid\, and its impact on animals and humans? Read our latest blog for a deeper look at what’s causing this outbreak\, how to support affected wildlife\, and how to stay safe. \nDonate today to take action for clean water\, healthy animals\, and coastal resilience. \nWatch the Recording
URL:https://healthebay.org/event/changing-tides-panel/
LOCATION:Zoom
CATEGORIES:Virtual Event
ATTACH;FMTTYPE=image/jpeg:https://healthebay.org/wp-content/uploads/2025/04/Social-1-e1745270227284.jpg
END:VEVENT
BEGIN:VEVENT
DTSTART;TZID=America/Los_Angeles:20250421T190000
DTEND;TZID=America/Los_Angeles:20250421T210000
DTSTAMP:20260420T214227
CREATED:20250401T203129Z
LAST-MODIFIED:20250401T204324Z
UID:10003167-1745262000-1745269200@healthebay.org
SUMMARY:Black Sands\, A Beach Talk Series
DESCRIPTION:Black Sands\, a Beach Talk series by Heal the Bay 🌊\nWhere community\, culture\, and coastline meet. \nJoin us for Black Sands\, a FREE virtual installment of Heal the Bay’s on-the-sand Beach Talk series\, which normally takes place during our monthly Nothin’ But Sand cleanups. \nWe welcome ALL who want to connect\, learn\, and share. \nThis roundtable will blend thoughtful dialogue with community-building\, exploring topics like Black identity in outdoor and marine spaces\, coastal resilience\, climate justice\, wellness\, and environmental stewardship. Whether you’re a longtime advocate\, a curious learner\, or someone simply seeking space to exhale\, Black Sands is for you. \nWhat to Expect \n🐟 Powerful speakers and community storytellers \n🦑 Open dialogue in a safe\, welcoming environment \n🪸 Mindfulness sessions and guided meditations throughout the discussion \n🦀 Space for Q&A \n🏄🏽‍♀️ A celebration of Black joy and its connection to nature and broader humanity \nWhen: April 21\, 2025 @ 7 pm \nWhere: Virtual \nCost: Free! \nRegister
URL:https://healthebay.org/event/black-sands-a-beach-talk-series/
CATEGORIES:Virtual Event
ATTACH;FMTTYPE=image/jpeg:https://healthebay.org/wp-content/uploads/2025/03/Black-Sands-April-2025-e1743539207469.jpg
END:VEVENT
END:VCALENDAR