BEGIN:VCALENDAR
VERSION:2.0
PRODID:-//Heal the Bay - ECPv6.15.20//NONSGML v1.0//EN
CALSCALE:GREGORIAN
METHOD:PUBLISH
X-WR-CALNAME:Heal the Bay
X-ORIGINAL-URL:https://healthebay.org
X-WR-CALDESC:Events for Heal the Bay
REFRESH-INTERVAL;VALUE=DURATION:PT1H
X-Robots-Tag:noindex
X-PUBLISHED-TTL:PT1H
BEGIN:VTIMEZONE
TZID:America/Los_Angeles
BEGIN:DAYLIGHT
TZOFFSETFROM:-0800
TZOFFSETTO:-0700
TZNAME:PDT
DTSTART:20240310T100000
END:DAYLIGHT
BEGIN:STANDARD
TZOFFSETFROM:-0700
TZOFFSETTO:-0800
TZNAME:PST
DTSTART:20241103T090000
END:STANDARD
BEGIN:DAYLIGHT
TZOFFSETFROM:-0800
TZOFFSETTO:-0700
TZNAME:PDT
DTSTART:20250309T100000
END:DAYLIGHT
BEGIN:STANDARD
TZOFFSETFROM:-0700
TZOFFSETTO:-0800
TZNAME:PST
DTSTART:20251102T090000
END:STANDARD
BEGIN:DAYLIGHT
TZOFFSETFROM:-0800
TZOFFSETTO:-0700
TZNAME:PDT
DTSTART:20260308T100000
END:DAYLIGHT
BEGIN:STANDARD
TZOFFSETFROM:-0700
TZOFFSETTO:-0800
TZNAME:PST
DTSTART:20261101T090000
END:STANDARD
END:VTIMEZONE
BEGIN:VEVENT
DTSTART;TZID=America/Los_Angeles:20250521T173000
DTEND;TZID=America/Los_Angeles:20250521T190000
DTSTAMP:20260420T172312
CREATED:20250121T184812Z
LAST-MODIFIED:20250306T233604Z
UID:10003157-1747848600-1747854000@healthebay.org
SUMMARY:MPA Watch Community Science Training
DESCRIPTION:Do you like science AND long walks on the beach? Then join Heal the Bay’s community science program\, MPA Watch! Volunteers will be trained on how to collect data while walking along the most beautiful beaches of Malibu and Palos Verdes. \nMonitoring done by MPA Watchers helps encourage enforcement and regulation around marine protected areas (MPAs)\, also known as “underwater Yosemites.” \nBecome a volunteer by attending the two-part training program\, which includes one virtual classroom training and one field training session. All training materials will be provided. \nPart 1: Classroom Training (Virtual)\nWednesday\, May 21\, 5:30 pm-7 pm \n\nPlease watch the prerequisite videos and quizzes:\n Heal the Bay MPA Watch Classroom Training Video (Heal the Bay MPA Basic Info Quiz)\n MPA Watch Virtual Field Training Video (Field Training Video Quiz)\nThe Zoom link will be shared after you register\nYou must have previously attended a Heal the Bay Volunteer Orientation\n\nField Training (In-person)\nSaturday\, May 24\, 12 PM – 2 PM \n\nClassroom training must be completed\nField training location will be disclosed at the virtual classroom training\nTo become an MPA Watch certified volunteer\, you must attend both sessions and Heal the Bay’s New Volunteer Orientation. You may attend a New Volunteer Orientation before or after our MPA Watch training.\n\nREGISTER \nPLEASE NOTE:  \n**Must Register to participate. Walk-on attendance is not permitted\, and shifts are limited. \n**A previous Heal the Bay Volunteer Orientation MUST be attended and completed before you can attend the MPA event. The orientation occurs bimonthly. \nSIGN UP FOR YOUR SHIFT and help protect some of California’s most diverse coastal spaces from #Summit2Sea.
URL:https://healthebay.org/event/mpa-watch-community-science-training-2/
CATEGORIES:Volunteer
ATTACH;FMTTYPE=image/jpeg:https://healthebay.org/wp-content/uploads/2023/12/Heal-the-Bay-1-1-e1702321873977.jpg
END:VEVENT
BEGIN:VEVENT
DTSTART;TZID=America/Los_Angeles:20250517T100000
DTEND;TZID=America/Los_Angeles:20250517T120000
DTSTAMP:20260420T172313
CREATED:20250414T230445Z
LAST-MODIFIED:20250517T165541Z
UID:10003170-1747476000-1747483200@healthebay.org
SUMMARY:May Nothin' But Nature River Clean Up
DESCRIPTION:May Nothin’ But Nature Clean Up \nMay 17\, 10 AM – 12 PM @ Whittier Narrows\nHelp keep Whittier Narrows clean\, healthy\, and beautiful at a special inland Nothin’ But Nature River Clean Up. \n📍 Location: Whittier Narrows – Blackwill Staging Area\n📅 Date: Saturday\, May 17\n⏰ Time: 10 AM – 12 PM \nRegister Now \n\n\n\nWe provide the supplies\, all you need to do is register\, sign a waiver*\, and show up! (ONLY individuals under 18 bring a signed waiver*) Please note: Heal the Bay guarantees cleanup supplies for the first 300 people who are registered. \n\n\n\nEach volunteer registers individually unless they are with a group or family \n\nIndividuals under 18:  reserve a ticket and bring a signed waiver form to the cleanup\n\n\nCLEANING UP WITH A GROUP OF 15+? HERE’S WHAT YOU NEED TO KNOW! 🌿 \nAre you participating as part of a company\, school\, nonprofit\, or other organization? We’d love to have your group join us!  \nPlease follow these steps: \n1️ Register Your Group: Have your Group Coordinator email adopt@healthebay.org (ATTN: NBS Group Registration) with your group name\, a brief description\, coordinator contact information\, and expected group size. \n2️ Wait for Confirmation: Once registered\, your group will appear as an option on our RSVP page. \n3️ Have Your Members RSVP: Each individual in your group must register for an “Individual in Group” ticket and complete the waiver process. \n4️ Check-In Together: On event day\, please gather your group before heading to the Group Registration line to check in. If someone arrives late\, they can still check in\, attend the required safety talks\, and catch up with the group after picking up supplies. \nEVENT Sold out?  You can still attend! Just bring your own gloves and receptacle\, and our environmental experts will help you navigate the site and understand the impact of your work. \nWe will host another Nothin’ But Sand cleanup next month. Please stay tuned for more details. \n\nSign a Waiver \n\nIndividuals over 18 and Families sign a virtual waiver online when reserving a ticket.\nGroups have members sign a waiver form and bring it with them\, submit a digital waiver\, or sign a waiver upon arrival.\nIndividuals Under 18 must have a legal guardian sign a waiver form and bring it to the cleanup.\n\nShow up \n\nHelp us make Nothin’ But Nature a zero-waste event by bringing your own buckets\, garden gloves\, and a reusable mask and water bottle\nBe prepared to be outside for 2-3 hours. Weather can be unpredictable\, so we recommend dressing in layers.  Water is available at all cleanups.\nIf you have any questions or concerns please email our Beach Programs Manager\, at tlocke@healthebay.org \n\nMore Information \n\nWaiver Form\nBeach Cleanup Guide\nMore opportunities offered by Heal the Bay\n\nLearn more about Heal the Bay cleanups\n\n\n\nWe would like to acknowledge that this cleanup will take place on the traditional lands of the Tongva and Chumash People\, and we pay respect to elders both past and present. 
URL:https://healthebay.org/event/may-nothin-but-nature-river-clean-up-2/
CATEGORIES:Cleanups
ATTACH;FMTTYPE=image/png:https://healthebay.org/wp-content/uploads/2025/04/NBS-Graphics-2024-2025-6-e1746215805106.png
END:VEVENT
BEGIN:VEVENT
DTSTART;TZID=America/Los_Angeles:20250512T183000
DTEND;TZID=America/Los_Angeles:20250512T203000
DTSTAMP:20260420T172313
CREATED:20250425T174825Z
LAST-MODIFIED:20250527T201751Z
UID:10003176-1747074600-1747081800@healthebay.org
SUMMARY:Virtual Beach Captain Training
DESCRIPTION:Were you drawn to Beach Programs after Volunteer Orientation? Excited to expand your event coordination and science communication skills while networking with like-minded people? Then\, the next step is to become a Beach Captain! As a Beach Captain\, you’ll learn how to coordinate and manage logistics for our flagship beach cleanup events\, including Nothin’ But Sand\, Suits on the Sand\, and Adopt-a-Beach. These events are the face of Heal the Bay and serve as the first introduction for many to our mission. By completing this virtual training\, you’ll be qualified to represent Heal the Bay on the sand at our renowned cleanups\, helping lead volunteers and making a lasting impact on our coastline. \nWho Should Attend?\n\nIndividuals who want to be leaders on the sand at Heal the Bay events\nThose who desire to immerse themselves in Heal the Bay’s community\nAnyone who enjoys teaching others how to collect data and contribute to science\nPeople who love engaging with diverse groups and inspiring environmental action\n\n*You are eligible to attend this training if you have completed Volunteer Orientation. \nREGISTER NOW
URL:https://healthebay.org/event/beach-captain-training-2025/2025-05-12/
CATEGORIES:Virtual Event
ATTACH;FMTTYPE=image/jpeg:https://healthebay.org/wp-content/uploads/2025/02/52032736621_7a540e0bc7_o-e1740769236882.jpg
END:VEVENT
BEGIN:VEVENT
DTSTART;TZID=America/Los_Angeles:20250510T090000
DTEND;TZID=America/Los_Angeles:20250510T120000
DTSTAMP:20260420T172313
CREATED:20250502T182825Z
LAST-MODIFIED:20250502T192932Z
UID:10003179-1746867600-1746878400@healthebay.org
SUMMARY:Climate & Our Coast Workshop
DESCRIPTION:May 10\, 2025\, 9am- 12 pm @ Heal the Bay Headquarters \nJoin Heal the Bay for an award-winning\, hands-on experience designed to help you master the science behind climate change. In just three hours\, you’ll gain a clear understanding of the impacts on our coast. \nThis FREE workshop offers: \n\nInteractive Learning: Quickly grasp the complexities of climate change through an engaging\, collaborative process.\nTrusted Science: Grounded in the IPCC reports that inform global leaders.\nCollaborative Experience: Work with fellow participants to uncover intricate connections\, reflect on emotional impacts\, share perspectives\, and brainstorm actionable solutions.\nInspiration and Empowerment: Leave feeling inspired and ready to make a positive impact.\n\nDon’t miss this opportunity to deepen your understanding and contribute to meaningful change. Secure your spot and be part of the solution. \nREGISTER NOW
URL:https://healthebay.org/event/climate-our-coast-workshop/
LOCATION:Heal the Bay Main Office\, 1444 9th St\, Santa Monica\, CA\, 90401\, United States
CATEGORIES:Special Events
ATTACH;FMTTYPE=image/jpeg:https://healthebay.org/wp-content/uploads/2025/05/Coast-and-Climate-e1746214148583.jpg
GEO:34.0192063;-118.489701
X-APPLE-STRUCTURED-LOCATION;VALUE=URI;X-ADDRESS=Heal the Bay Main Office 1444 9th St Santa Monica CA 90401 United States;X-APPLE-RADIUS=500;X-TITLE=1444 9th St:geo:-118.489701,34.0192063
END:VEVENT
BEGIN:VEVENT
DTSTART;TZID=America/Los_Angeles:20250508T183000
DTEND;TZID=America/Los_Angeles:20250508T200000
DTSTAMP:20260420T172313
CREATED:20250128T211644Z
LAST-MODIFIED:20250128T211644Z
UID:10003130-1746729000-1746734400@healthebay.org
SUMMARY:New Heal the Bay Volunteer Orientation
DESCRIPTION:Protect what you love! Volunteer with Heal the Bay!\nTake the first step in protecting our oceans\, coastal waters\, and watersheds with Heal the Bay! Join us for our Volunteer Orientation and discover how you can get directly involved in Heal the Bay’s work. Learn about our volunteer programs\, meet like-minded environmental advocates\, and be the first to hear about upcoming events and opportunities. \n📅 Date: May 8\n🕒 Time: 6:30 PM – 8:00 PM\n📍 Location: Heal the Bay Aquarium – 1600 Ocean Front Walk\, Santa Monica\, CA 90401 \nREGISTER NOW \nWhy Volunteer with Heal the Bay?\n\nConnect with a passionate community tackling environmental issues in Los Angeles.\nDevelop valuable personal and professional skills.\nGain the confidence to advocate for a healthier planet.\nEnjoy exclusive volunteer events and opportunities.\n\nBy completing this Volunteer Orientation\, you’ll unlock opportunities to:\n\nMonitor marine protected areas with MPA Watch.\nLead beach cleanups as a Beach Captain.\nParticipate in Aquarium Volunteer Training.\nEducate others by joining the Speaker’s Bureau.\n\nPlease note: Orientation is not required for participation in Nothin’ But Sand monthly beach cleanups. \nParking Information:\nThe closest parking is at Lot 1 North and Lot 1 South in Santa Monica. \nWhat to Bring:\nNo materials are needed—just bring your enthusiasm and be ready to meet fellow ocean lovers! \n🌊 Ready to make a difference?\nRegister now to start your journey with Heal the Bay and help protect our local coastal waters.
URL:https://healthebay.org/event/new-heal-the-bay-volunteer-orientation/
LOCATION:Heal the Bay Aquarium\, 1600 Ocean Front Walk\, Santa Monica\, CA\, 90401\, United States
CATEGORIES:Volunteer
ATTACH;FMTTYPE=image/jpeg:https://healthebay.org/wp-content/uploads/2024/12/48425755471_04d700a53a_c.jpg
GEO:34.010005;-118.4959934
X-APPLE-STRUCTURED-LOCATION;VALUE=URI;X-ADDRESS=Heal the Bay Aquarium 1600 Ocean Front Walk Santa Monica CA 90401 United States;X-APPLE-RADIUS=500;X-TITLE=1600 Ocean Front Walk:geo:-118.4959934,34.010005
END:VEVENT
BEGIN:VEVENT
DTSTART;TZID=America/Los_Angeles:20250503T090000
DTEND;TZID=America/Los_Angeles:20250503T110000
DTSTAMP:20260420T172313
CREATED:20250327T192939Z
LAST-MODIFIED:20250327T192959Z
UID:10003165-1746262800-1746270000@healthebay.org
SUMMARY:May 2025 eDNA Sampling Community Science Event
DESCRIPTION:Dive into cutting-edge science and meet fellow volunteers at our monthly community science event in Malibu. Discover the fascinating world of eDNA water testing\, which helps track biodiversity and monitor our Marine Protected Areas. \nSIGN UP \nMay eDNA Sampling Event Safety Information\nAlthough our Malibu eDNA sample sites are accessible\, there are many unknown factors that could pose risks to your health and safety. Following the January 2025 fires\, there is limited data on how water quality and sand conditions may have been impacted\, making it difficult to determine whether these beaches are safe. To prioritize your safety\, our eDNA team has implemented the following precautions: \n\nAvoid swimming in these areas.\nWear Personal Protective Equipment (PPE)\, including masks\, while surveying.\nVolunteers entering the water will be provided with gloves\, waders\, and goggles.\nBring spare socks if you plan to enter the water.\nClosed-toed shoes are required\, especially in this area due to potential hazards.\nDo not handle fire debris without gloves.\n\nAs community scientists\, we trust you to make informed decisions based on the evolving data and understanding of these conditions. Please do not put yourself in any situation where you feel unsafe. If you have any questions or concerns\, don’t hesitate to reach out. And for updates as new data become available\, check out our Ash to Action page. \n**You must sign our Heal the Bay eDNA Waiver before attending our event. Volunteers under 17 must have their parent(s) (or guardian(s)\, if any) sign the waiver. \n**A previous Heal the Bay Volunteer Orientation MUST be attended and completed before you can attend the eDNA event. The orientation occurs bimonthly. Learn about our next orientation here. \nPlease contact the MPA Watch Team at mpawatch@healthebay.org with any questions.
URL:https://healthebay.org/event/may-2025-edna-sampling-community-science-event-1/
CATEGORIES:Volunteer
ATTACH;FMTTYPE=image/jpeg:https://healthebay.org/wp-content/uploads/2024/07/rtaImage.jpg
END:VEVENT
BEGIN:VEVENT
DTSTART;TZID=America/Los_Angeles:20250427T100000
DTEND;TZID=America/Los_Angeles:20250427T120000
DTSTAMP:20260420T172313
CREATED:20250321T215415Z
LAST-MODIFIED:20250321T221540Z
UID:10003159-1745748000-1745755200@healthebay.org
SUMMARY:Heal the Bay BioBlitz 2025
DESCRIPTION:Heal the Bay BioBlitz: 2025 LA City Nature Challenge\nJoin Heal the Bay’s Safe\, Clean Water Program (SCWP) for the 2025 LA City Nature Challenge BioBlitz\, a global event that started as a friendly competition between Los Angeles and San Francisco and has since grown into a worldwide movement! \nA BioBlitz is a fun\, hands-on community science event where we’ll work together to document local wildlife. By snapping photos of wild plants and animals\, you’ll contribute valuable data to a global biodiversity database to help scientists better understand our urban environment. No experience needed! Just bring your curiosity and a smartphone. \nWe’re offering two BioBlitz locations this year\, and both are happening simultaneously\, so please choose only one. \n\n		\n		\n			\n				\n			\n			\n				\n			\n		\n\nWhen: Sunday\, April 27\, 10 AM – 12 PM\nWhere: Gardena Willows Wetland Preserve (1202 W 170th Street; Gardena\, CA 90247) OR Ballona Discovery Park (13110 Bluff Creek Dr; Los Angeles\, CA 90094)\nCost: FREE \nREGISTER
URL:https://healthebay.org/event/heal-the-bay-bioblitz-2025/
ATTACH;FMTTYPE=image/jpeg:https://healthebay.org/wp-content/uploads/2025/03/bioblitz-in-the-marsh.jpg
END:VEVENT
BEGIN:VEVENT
DTSTART;TZID=America/Los_Angeles:20250423T170000
DTEND;TZID=America/Los_Angeles:20250423T180000
DTSTAMP:20260420T172313
CREATED:20250418T021206Z
LAST-MODIFIED:20250516T211713Z
UID:10003175-1745427600-1745431200@healthebay.org
SUMMARY:CHANGING TIDES: FIRES\, BLOOMS &  A WARMING COAST (Panel)
DESCRIPTION:Missed the “Changing Tides” webinar?\nYou can still catch this powerful conversation and learn the facts about wildfires\, toxic algae blooms\, and how we can fight for a more climate-resilient future. Watch the recording to hear from actress/advocate Bonnie Wright\, Heal the Bay CEO Tracy Quinn\, and Marine Mammal Care Center’s Dave Bader.  \nWant to learn more about algae blooms\, domoic acid\, and its impact on animals and humans? Read our latest blog for a deeper look at what’s causing this outbreak\, how to support affected wildlife\, and how to stay safe. \nDonate today to take action for clean water\, healthy animals\, and coastal resilience. \nWatch the Recording
URL:https://healthebay.org/event/changing-tides-panel/
LOCATION:Zoom
CATEGORIES:Virtual Event
ATTACH;FMTTYPE=image/jpeg:https://healthebay.org/wp-content/uploads/2025/04/Social-1-e1745270227284.jpg
END:VEVENT
BEGIN:VEVENT
DTSTART;TZID=America/Los_Angeles:20250421T190000
DTEND;TZID=America/Los_Angeles:20250421T210000
DTSTAMP:20260420T172313
CREATED:20250401T203129Z
LAST-MODIFIED:20250401T204324Z
UID:10003167-1745262000-1745269200@healthebay.org
SUMMARY:Black Sands\, A Beach Talk Series
DESCRIPTION:Black Sands\, a Beach Talk series by Heal the Bay 🌊\nWhere community\, culture\, and coastline meet. \nJoin us for Black Sands\, a FREE virtual installment of Heal the Bay’s on-the-sand Beach Talk series\, which normally takes place during our monthly Nothin’ But Sand cleanups. \nWe welcome ALL who want to connect\, learn\, and share. \nThis roundtable will blend thoughtful dialogue with community-building\, exploring topics like Black identity in outdoor and marine spaces\, coastal resilience\, climate justice\, wellness\, and environmental stewardship. Whether you’re a longtime advocate\, a curious learner\, or someone simply seeking space to exhale\, Black Sands is for you. \nWhat to Expect \n🐟 Powerful speakers and community storytellers \n🦑 Open dialogue in a safe\, welcoming environment \n🪸 Mindfulness sessions and guided meditations throughout the discussion \n🦀 Space for Q&A \n🏄🏽‍♀️ A celebration of Black joy and its connection to nature and broader humanity \nWhen: April 21\, 2025 @ 7 pm \nWhere: Virtual \nCost: Free! \nRegister
URL:https://healthebay.org/event/black-sands-a-beach-talk-series/
CATEGORIES:Virtual Event
ATTACH;FMTTYPE=image/jpeg:https://healthebay.org/wp-content/uploads/2025/03/Black-Sands-April-2025-e1743539207469.jpg
END:VEVENT
END:VCALENDAR