BEGIN:VCALENDAR
VERSION:2.0
PRODID:-//Heal the Bay - ECPv6.15.20//NONSGML v1.0//EN
CALSCALE:GREGORIAN
METHOD:PUBLISH
X-WR-CALNAME:Heal the Bay
X-ORIGINAL-URL:https://healthebay.org
X-WR-CALDESC:Events for Heal the Bay
REFRESH-INTERVAL;VALUE=DURATION:PT1H
X-Robots-Tag:noindex
X-PUBLISHED-TTL:PT1H
BEGIN:VTIMEZONE
TZID:America/Los_Angeles
BEGIN:DAYLIGHT
TZOFFSETFROM:-0800
TZOFFSETTO:-0700
TZNAME:PDT
DTSTART:20240310T100000
END:DAYLIGHT
BEGIN:STANDARD
TZOFFSETFROM:-0700
TZOFFSETTO:-0800
TZNAME:PST
DTSTART:20241103T090000
END:STANDARD
BEGIN:DAYLIGHT
TZOFFSETFROM:-0800
TZOFFSETTO:-0700
TZNAME:PDT
DTSTART:20250309T100000
END:DAYLIGHT
BEGIN:STANDARD
TZOFFSETFROM:-0700
TZOFFSETTO:-0800
TZNAME:PST
DTSTART:20251102T090000
END:STANDARD
BEGIN:DAYLIGHT
TZOFFSETFROM:-0800
TZOFFSETTO:-0700
TZNAME:PDT
DTSTART:20260308T100000
END:DAYLIGHT
BEGIN:STANDARD
TZOFFSETFROM:-0700
TZOFFSETTO:-0800
TZNAME:PST
DTSTART:20261101T090000
END:STANDARD
END:VTIMEZONE
BEGIN:VEVENT
DTSTART;TZID=America/Los_Angeles:20250608T120000
DTEND;TZID=America/Los_Angeles:20250608T160000
DTSTAMP:20260420T152121
CREATED:20250502T204932Z
LAST-MODIFIED:20250508T224641Z
UID:10003178-1749384000-1749398400@healthebay.org
SUMMARY:A Brew for the Bay: 40th Anniversary Fundraiser
DESCRIPTION:Join us and Golden Road Brewing to celebrate Heal the Bay’s 40th Anniversary and World Oceans Day! \nCome for the beer\, stay for the cause! Cheers with a glass of Heal the Bay IPA\, delicious food\, and an exciting live auction featuring unique items and memorable experiences. We will be joined by a live DJ and some of our marine animals from the Heal the Bay Aquarium. \nEach ticket purchase receives 2 beer vouchers\, free food\, 1 raffle ticket\, and a gift. Best of all\, 100% of all ticket proceeds will support Heal the Bay’s vital environmental efforts. Guests of all ages are welcome! \nLet’s raise a glass to 40 years of championing for clean water\, protected coastlines\, and a healthier environment for all! \nGET YOUR TICKETS \n*BEER VOUCHERS ARE VALID ON EVENT NIGHT ONLY.\n*MUST BE 21+ TO RECEIVE BEER VOUCHER
URL:https://healthebay.org/event/the-heal-the-bay-ipa-party-2/
LOCATION:Golden Road Brewing Huntington Beach\, 16390 Pacific Coast Hwy\, Huntington Beach\, 92649\, United States
CATEGORIES:Special Events
ATTACH;FMTTYPE=image/jpeg:https://healthebay.org/wp-content/uploads/2025/05/Brew-for-the-bay-2-GR-edits-2-e1746744391312.jpg
END:VEVENT
END:VCALENDAR