BEGIN:VCALENDAR
VERSION:2.0
PRODID:-//Heal the Bay - ECPv6.15.20//NONSGML v1.0//EN
CALSCALE:GREGORIAN
METHOD:PUBLISH
X-WR-CALNAME:Heal the Bay
X-ORIGINAL-URL:https://healthebay.org
X-WR-CALDESC:Events for Heal the Bay
REFRESH-INTERVAL;VALUE=DURATION:PT1H
X-Robots-Tag:noindex
X-PUBLISHED-TTL:PT1H
BEGIN:VTIMEZONE
TZID:America/Los_Angeles
BEGIN:DAYLIGHT
TZOFFSETFROM:-0800
TZOFFSETTO:-0700
TZNAME:PDT
DTSTART:20240310T100000
END:DAYLIGHT
BEGIN:STANDARD
TZOFFSETFROM:-0700
TZOFFSETTO:-0800
TZNAME:PST
DTSTART:20241103T090000
END:STANDARD
BEGIN:DAYLIGHT
TZOFFSETFROM:-0800
TZOFFSETTO:-0700
TZNAME:PDT
DTSTART:20250309T100000
END:DAYLIGHT
BEGIN:STANDARD
TZOFFSETFROM:-0700
TZOFFSETTO:-0800
TZNAME:PST
DTSTART:20251102T090000
END:STANDARD
BEGIN:DAYLIGHT
TZOFFSETFROM:-0800
TZOFFSETTO:-0700
TZNAME:PDT
DTSTART:20260308T100000
END:DAYLIGHT
BEGIN:STANDARD
TZOFFSETFROM:-0700
TZOFFSETTO:-0800
TZNAME:PST
DTSTART:20261101T090000
END:STANDARD
END:VTIMEZONE
BEGIN:VEVENT
DTSTART;VALUE=DATE:20250911
DTEND;VALUE=DATE:20250912
DTSTAMP:20260420T191150
CREATED:20250217T193916Z
LAST-MODIFIED:20250620T221558Z
UID:10003148-1757548800-1757635199@healthebay.org
SUMMARY:Bring Back the Beach Gala 2025
DESCRIPTION:We Cordially Invite You To Our Bring Back The Beach Gala Celebrating Heal the Bay’s 40th Anniversary!\n \nDon’t miss Heal the Bay’s 40th Anniversary Gala on September 11\, 2025\, at the Jonathan Club in Santa Monica. \nThis unforgettable evening will celebrate four decades of progress and how we are building a more resilient future for our coastlines and community. \nWe hope you’ll join us on the sand for this special night! \nGet Tickets \n \n \n \n\nGet Tickets \nIf you have any questions please email us at BBB@healthebay.org. \n  \n 
URL:https://healthebay.org/event/bring-back-the-beach-gala-2025/
LOCATION:Jonathan Club in Santa Monica\, 850 Palisades Beach Rd.\, Santa Monica\, CA\, 90403\, United States
CATEGORIES:Special Events
GEO:34.0201612;-118.5072902
X-APPLE-STRUCTURED-LOCATION;VALUE=URI;X-ADDRESS=Jonathan Club in Santa Monica 850 Palisades Beach Rd. Santa Monica CA 90403 United States;X-APPLE-RADIUS=500;X-TITLE=850 Palisades Beach Rd.:geo:-118.5072902,34.0201612
END:VEVENT
END:VCALENDAR