BEGIN:VCALENDAR
VERSION:2.0
PRODID:-//Heal the Bay - ECPv6.15.20//NONSGML v1.0//EN
CALSCALE:GREGORIAN
METHOD:PUBLISH
X-WR-CALNAME:Heal the Bay
X-ORIGINAL-URL:https://healthebay.org
X-WR-CALDESC:Events for Heal the Bay
REFRESH-INTERVAL;VALUE=DURATION:PT1H
X-Robots-Tag:noindex
X-PUBLISHED-TTL:PT1H
BEGIN:VTIMEZONE
TZID:America/Los_Angeles
BEGIN:DAYLIGHT
TZOFFSETFROM:-0800
TZOFFSETTO:-0700
TZNAME:PDT
DTSTART:20250309T100000
END:DAYLIGHT
BEGIN:STANDARD
TZOFFSETFROM:-0700
TZOFFSETTO:-0800
TZNAME:PST
DTSTART:20251102T090000
END:STANDARD
BEGIN:DAYLIGHT
TZOFFSETFROM:-0800
TZOFFSETTO:-0700
TZNAME:PDT
DTSTART:20260308T100000
END:DAYLIGHT
BEGIN:STANDARD
TZOFFSETFROM:-0700
TZOFFSETTO:-0800
TZNAME:PST
DTSTART:20261101T090000
END:STANDARD
BEGIN:DAYLIGHT
TZOFFSETFROM:-0800
TZOFFSETTO:-0700
TZNAME:PDT
DTSTART:20270314T100000
END:DAYLIGHT
BEGIN:STANDARD
TZOFFSETFROM:-0700
TZOFFSETTO:-0800
TZNAME:PST
DTSTART:20271107T090000
END:STANDARD
END:VTIMEZONE
BEGIN:VEVENT
DTSTART;TZID=America/Los_Angeles:20260924T150000
DTEND;TZID=America/Los_Angeles:20260924T230000
DTSTAMP:20260420T175423
CREATED:20260306T132219Z
LAST-MODIFIED:20260309T182252Z
UID:10003292-1790262000-1790290800@healthebay.org
SUMMARY:2026 Bring Back the Beach Gala
DESCRIPTION:
URL:https://healthebay.org/event/2026-bring-back-the-beach-gala-2/
LOCATION:Jonathan Club in Santa Monica\, 850 Palisades Beach Rd.\, Santa Monica\, CA\, 90403\, United States
ATTACH;FMTTYPE=image/jpeg:https://healthebay.org/wp-content/uploads/2026/03/HTB-Gala-2026-Save-The-Date.jpg
GEO:34.0201612;-118.5072902
X-APPLE-STRUCTURED-LOCATION;VALUE=URI;X-ADDRESS=Jonathan Club in Santa Monica 850 Palisades Beach Rd. Santa Monica CA 90403 United States;X-APPLE-RADIUS=500;X-TITLE=850 Palisades Beach Rd.:geo:-118.5072902,34.0201612
END:VEVENT
END:VCALENDAR