BEGIN:VCALENDAR
VERSION:2.0
PRODID:-//Heal the Bay - ECPv6.15.20//NONSGML v1.0//EN
CALSCALE:GREGORIAN
METHOD:PUBLISH
X-ORIGINAL-URL:https://healthebay.org
X-WR-CALDESC:Events for Heal the Bay
REFRESH-INTERVAL;VALUE=DURATION:PT1H
X-Robots-Tag:noindex
X-PUBLISHED-TTL:PT1H
BEGIN:VTIMEZONE
TZID:America/Los_Angeles
BEGIN:DAYLIGHT
TZOFFSETFROM:-0800
TZOFFSETTO:-0700
TZNAME:PDT
DTSTART:20240310T100000
END:DAYLIGHT
BEGIN:STANDARD
TZOFFSETFROM:-0700
TZOFFSETTO:-0800
TZNAME:PST
DTSTART:20241103T090000
END:STANDARD
BEGIN:DAYLIGHT
TZOFFSETFROM:-0800
TZOFFSETTO:-0700
TZNAME:PDT
DTSTART:20250309T100000
END:DAYLIGHT
BEGIN:STANDARD
TZOFFSETFROM:-0700
TZOFFSETTO:-0800
TZNAME:PST
DTSTART:20251102T090000
END:STANDARD
BEGIN:DAYLIGHT
TZOFFSETFROM:-0800
TZOFFSETTO:-0700
TZNAME:PDT
DTSTART:20260308T100000
END:DAYLIGHT
BEGIN:STANDARD
TZOFFSETFROM:-0700
TZOFFSETTO:-0800
TZNAME:PST
DTSTART:20261101T090000
END:STANDARD
END:VTIMEZONE
BEGIN:VEVENT
DTSTART;TZID=America/Los_Angeles:20251205T143000
DTEND;TZID=America/Los_Angeles:20251205T163000
DTSTAMP:20260420T120701
CREATED:20251103T230935Z
LAST-MODIFIED:20251103T231120Z
UID:10003248-1764945000-1764952200@healthebay.org
SUMMARY:CalCoast Tidepool Bioblitz
DESCRIPTION:Explore incredible tidepools and support coastal science at our Tidepool Bioblitz!\nJoin Heal the Bay and the California Academy of Sciences for a community-powered Tidepool Bioblitz on Friday\, December 5\, 2:30 pm – 4:30 pm at the Leo Carrillo tidepools. Witness the magnificent King Tides and participate in community science! \nBy documenting marine life in real time\, you’ll help create a statewide snapshot of California’s coastal biodiversity. Your observations support scientists at the local\, regional\, and state levels\, providing critical data on species distribution and habitat change along the California Coast. \nWhile our focus is on the rocky intertidal zone\, we welcome data from all coastal-influenced habitats\, including sandy beaches\, bays\, wetlands\, and docks. \nNo experience necessary\, just bring your curiosity! \nRegister
URL:https://healthebay.org/event/calcoast-tidepool-bioblitz-2/
LOCATION:Leo Carrillo Beach\, 35000 Pacific Coast Hwy\, Malibu\, CA\, 90265
CATEGORIES:Special Events
ATTACH;FMTTYPE=image/jpeg:https://healthebay.org/wp-content/uploads/2025/11/tidepool-bioblitz-1-e1762211415453.jpg
END:VEVENT
END:VCALENDAR